BEGIN:VCALENDAR
VERSION:2.0
PRODID:-//Circle of Indigenous Nations Society - ECPv6.15.18//NONSGML v1.0//EN
CALSCALE:GREGORIAN
METHOD:PUBLISH
X-WR-CALNAME:Circle of Indigenous Nations Society
X-ORIGINAL-URL:https://coinations.net
X-WR-CALDESC:Events for Circle of Indigenous Nations Society
REFRESH-INTERVAL;VALUE=DURATION:PT1H
X-Robots-Tag:noindex
X-PUBLISHED-TTL:PT1H
BEGIN:VTIMEZONE
TZID:America/Vancouver
BEGIN:DAYLIGHT
TZOFFSETFROM:-0800
TZOFFSETTO:-0700
TZNAME:PDT
DTSTART:20220313T100000
END:DAYLIGHT
BEGIN:STANDARD
TZOFFSETFROM:-0700
TZOFFSETTO:-0800
TZNAME:PST
DTSTART:20221106T090000
END:STANDARD
BEGIN:DAYLIGHT
TZOFFSETFROM:-0800
TZOFFSETTO:-0700
TZNAME:PDT
DTSTART:20230312T100000
END:DAYLIGHT
BEGIN:STANDARD
TZOFFSETFROM:-0700
TZOFFSETTO:-0800
TZNAME:PST
DTSTART:20231105T090000
END:STANDARD
BEGIN:DAYLIGHT
TZOFFSETFROM:-0800
TZOFFSETTO:-0700
TZNAME:PDT
DTSTART:20240310T100000
END:DAYLIGHT
BEGIN:STANDARD
TZOFFSETFROM:-0700
TZOFFSETTO:-0800
TZNAME:PST
DTSTART:20241103T090000
END:STANDARD
BEGIN:DAYLIGHT
TZOFFSETFROM:-0800
TZOFFSETTO:-0700
TZNAME:PDT
DTSTART:20250309T100000
END:DAYLIGHT
BEGIN:STANDARD
TZOFFSETFROM:-0700
TZOFFSETTO:-0800
TZNAME:PST
DTSTART:20251102T090000
END:STANDARD
BEGIN:DAYLIGHT
TZOFFSETFROM:-0800
TZOFFSETTO:-0700
TZNAME:PDT
DTSTART:20260308T100000
END:DAYLIGHT
BEGIN:STANDARD
TZOFFSETFROM:-0700
TZOFFSETTO:-0800
TZNAME:PST
DTSTART:20261101T090000
END:STANDARD
END:VTIMEZONE
BEGIN:VEVENT
DTSTART;TZID=America/Vancouver:20250227T173000
DTEND;TZID=America/Vancouver:20250227T190000
DTSTAMP:20260422T121043
CREATED:20241220T005529Z
LAST-MODIFIED:20241220T005530Z
UID:10005088-1740677400-1740682800@coinations.net
SUMMARY:Castlegar Early Childhood Educator Gathering
DESCRIPTION:Honoring all Early Childhood Educators. \nPlease join us for an evening of sharing\, and drumming- a potluck option\, but not mandatory. \nFor more information please contact Stacey at 250-304-7481\, email earlyintervention@coinations.net
URL:https://coinations.net/program/castlegar-ece-gathering-2/2025-02-27/
LOCATION:COINS Castlegar Office\, 1801 Connors road\, Castlegar\, British Columbia\, V1N3N9\, Canada
END:VEVENT
BEGIN:VEVENT
DTSTART;TZID=America/Vancouver:20250224T160000
DTEND;TZID=America/Vancouver:20250224T180000
DTSTAMP:20260422T121043
CREATED:20240522T202849Z
LAST-MODIFIED:20260127T230311Z
UID:10003487-1740412800-1740420000@coinations.net
SUMMARY:Castlegar Drum Circle
DESCRIPTION:The Circle of Indigenous Nations Society is offering a community drum circle for Indigenous children\, families and community members.\nLocation: COINS 1801 Connors Rd Castlegar BC\nTime: 4-6pm\nThis will be a potluck gathering so if you can bring an item to share\, great\, but it’s not mandatory.\nSnacks and refreshments will be provided.
URL:https://coinations.net/program/castlegar-drum-circle/2025-02-24/
LOCATION:COINS Castlegar Office\, 1801 Connors road\, Castlegar\, British Columbia\, V1N3N9\, Canada
END:VEVENT
BEGIN:VEVENT
DTSTART;TZID=America/Vancouver:20250127T160000
DTEND;TZID=America/Vancouver:20250127T180000
DTSTAMP:20260422T121043
CREATED:20240522T202849Z
LAST-MODIFIED:20260127T230311Z
UID:10003486-1737993600-1738000800@coinations.net
SUMMARY:Castlegar Drum Circle
DESCRIPTION:The Circle of Indigenous Nations Society is offering a community drum circle for Indigenous children\, families and community members.\nLocation: COINS 1801 Connors Rd Castlegar BC\nTime: 4-6pm\nThis will be a potluck gathering so if you can bring an item to share\, great\, but it’s not mandatory.\nSnacks and refreshments will be provided.
URL:https://coinations.net/program/castlegar-drum-circle/2025-01-27/
LOCATION:COINS Castlegar Office\, 1801 Connors road\, Castlegar\, British Columbia\, V1N3N9\, Canada
END:VEVENT
BEGIN:VEVENT
DTSTART;TZID=America/Vancouver:20250123T173000
DTEND;TZID=America/Vancouver:20250123T190000
DTSTAMP:20260422T121043
CREATED:20241220T005529Z
LAST-MODIFIED:20241220T005530Z
UID:10004567-1737653400-1737658800@coinations.net
SUMMARY:Castlegar Early Childhood Educator Gathering
DESCRIPTION:Honoring all Early Childhood Educators. \nPlease join us for an evening of sharing\, and drumming- a potluck option\, but not mandatory. \nFor more information please contact Stacey at 250-304-7481\, email earlyintervention@coinations.net
URL:https://coinations.net/program/castlegar-ece-gathering-2/2025-01-23/
LOCATION:COINS Castlegar Office\, 1801 Connors road\, Castlegar\, British Columbia\, V1N3N9\, Canada
END:VEVENT
BEGIN:VEVENT
DTSTART;TZID=America/Vancouver:20241230T160000
DTEND;TZID=America/Vancouver:20241230T180000
DTSTAMP:20260422T121043
CREATED:20240522T202849Z
LAST-MODIFIED:20260127T230311Z
UID:10003485-1735574400-1735581600@coinations.net
SUMMARY:Castlegar Drum Circle
DESCRIPTION:The Circle of Indigenous Nations Society is offering a community drum circle for Indigenous children\, families and community members.\nLocation: COINS 1801 Connors Rd Castlegar BC\nTime: 4-6pm\nThis will be a potluck gathering so if you can bring an item to share\, great\, but it’s not mandatory.\nSnacks and refreshments will be provided.
URL:https://coinations.net/program/castlegar-drum-circle/2024-12-30/
LOCATION:COINS Castlegar Office\, 1801 Connors road\, Castlegar\, British Columbia\, V1N3N9\, Canada
END:VEVENT
BEGIN:VEVENT
DTSTART;TZID=America/Vancouver:20241128T163000
DTEND;TZID=America/Vancouver:20241128T180000
DTSTAMP:20260422T121043
CREATED:20241029T183151Z
LAST-MODIFIED:20241120T211902Z
UID:10004565-1732811400-1732816800@coinations.net
SUMMARY:Castlegar Early Childhood Educator Gathering
DESCRIPTION:Honoring all Early Childhood Educators. \nPlease join us for an evening of sharing\, and drumming- a potluck option\, but not mandatory. \nFor more information please contact Stacey at 250-304-7481\, email earlyintervention@coinations.net
URL:https://coinations.net/program/castlegar-ece-gathering/
LOCATION:COINS Castlegar Office\, 1801 Connors road\, Castlegar\, British Columbia\, V1N3N9\, Canada
END:VEVENT
BEGIN:VEVENT
DTSTART;TZID=America/Vancouver:20241125T160000
DTEND;TZID=America/Vancouver:20241125T180000
DTSTAMP:20260422T121043
CREATED:20240522T202849Z
LAST-MODIFIED:20260127T230311Z
UID:10003484-1732550400-1732557600@coinations.net
SUMMARY:Castlegar Drum Circle
DESCRIPTION:The Circle of Indigenous Nations Society is offering a community drum circle for Indigenous children\, families and community members.\nLocation: COINS 1801 Connors Rd Castlegar BC\nTime: 4-6pm\nThis will be a potluck gathering so if you can bring an item to share\, great\, but it’s not mandatory.\nSnacks and refreshments will be provided.
URL:https://coinations.net/program/castlegar-drum-circle/2024-11-25/
LOCATION:COINS Castlegar Office\, 1801 Connors road\, Castlegar\, British Columbia\, V1N3N9\, Canada
END:VEVENT
BEGIN:VEVENT
DTSTART;TZID=America/Vancouver:20241028T160000
DTEND;TZID=America/Vancouver:20241028T180000
DTSTAMP:20260422T121043
CREATED:20240522T202849Z
LAST-MODIFIED:20260127T230311Z
UID:10003483-1730131200-1730138400@coinations.net
SUMMARY:Castlegar Drum Circle
DESCRIPTION:The Circle of Indigenous Nations Society is offering a community drum circle for Indigenous children\, families and community members.\nLocation: COINS 1801 Connors Rd Castlegar BC\nTime: 4-6pm\nThis will be a potluck gathering so if you can bring an item to share\, great\, but it’s not mandatory.\nSnacks and refreshments will be provided.
URL:https://coinations.net/program/castlegar-drum-circle/2024-10-28/
LOCATION:COINS Castlegar Office\, 1801 Connors road\, Castlegar\, British Columbia\, V1N3N9\, Canada
END:VEVENT
BEGIN:VEVENT
DTSTART;TZID=America/Vancouver:20240930T110000
DTEND;TZID=America/Vancouver:20240930T130000
DTSTAMP:20260422T121043
CREATED:20240926T165436Z
LAST-MODIFIED:20240926T165707Z
UID:10003482-1727694000-1727701200@coinations.net
SUMMARY:Orange Shirt Day-Castlegar Drum Circle
DESCRIPTION:The Circle of Indigenous Nations Society is offering a community drum circle and ceremony in Honor of Orange Shirt Day Monday September 30 11-1pm. \nRegular drum circles will continue in October. \nPlease contact Brittany with any questions at earlyintervention@coinations.net
URL:https://coinations.net/program/castlegar-drum-circle-2/
LOCATION:COINS Castlegar Office\, 1801 Connors road\, Castlegar\, British Columbia\, V1N3N9\, Canada
END:VEVENT
BEGIN:VEVENT
DTSTART;TZID=America/Vancouver:20240826T160000
DTEND;TZID=America/Vancouver:20240826T180000
DTSTAMP:20260422T121043
CREATED:20240522T202849Z
LAST-MODIFIED:20260127T230311Z
UID:10003481-1724688000-1724695200@coinations.net
SUMMARY:Castlegar Drum Circle
DESCRIPTION:The Circle of Indigenous Nations Society is offering a community drum circle for Indigenous children\, families and community members.\nLocation: COINS 1801 Connors Rd Castlegar BC\nTime: 4-6pm\nThis will be a potluck gathering so if you can bring an item to share\, great\, but it’s not mandatory.\nSnacks and refreshments will be provided.
URL:https://coinations.net/program/castlegar-drum-circle/2024-08-26/
LOCATION:COINS Castlegar Office\, 1801 Connors road\, Castlegar\, British Columbia\, V1N3N9\, Canada
END:VEVENT
BEGIN:VEVENT
DTSTART;TZID=America/Vancouver:20240729T160000
DTEND;TZID=America/Vancouver:20240729T180000
DTSTAMP:20260422T121043
CREATED:20240522T202849Z
LAST-MODIFIED:20260127T230311Z
UID:10003480-1722268800-1722276000@coinations.net
SUMMARY:Castlegar Drum Circle
DESCRIPTION:The Circle of Indigenous Nations Society is offering a community drum circle for Indigenous children\, families and community members.\nLocation: COINS 1801 Connors Rd Castlegar BC\nTime: 4-6pm\nThis will be a potluck gathering so if you can bring an item to share\, great\, but it’s not mandatory.\nSnacks and refreshments will be provided.
URL:https://coinations.net/program/castlegar-drum-circle/2024-07-29/
LOCATION:COINS Castlegar Office\, 1801 Connors road\, Castlegar\, British Columbia\, V1N3N9\, Canada
END:VEVENT
BEGIN:VEVENT
DTSTART;TZID=America/Vancouver:20240624T160000
DTEND;TZID=America/Vancouver:20240624T180000
DTSTAMP:20260422T121043
CREATED:20240522T202849Z
LAST-MODIFIED:20260127T230311Z
UID:10003479-1719244800-1719252000@coinations.net
SUMMARY:Castlegar Drum Circle
DESCRIPTION:The Circle of Indigenous Nations Society is offering a community drum circle for Indigenous children\, families and community members.\nLocation: COINS 1801 Connors Rd Castlegar BC\nTime: 4-6pm\nThis will be a potluck gathering so if you can bring an item to share\, great\, but it’s not mandatory.\nSnacks and refreshments will be provided.
URL:https://coinations.net/program/castlegar-drum-circle/2024-06-24/
LOCATION:COINS Castlegar Office\, 1801 Connors road\, Castlegar\, British Columbia\, V1N3N9\, Canada
END:VEVENT
BEGIN:VEVENT
DTSTART;TZID=America/Vancouver:20240527T160000
DTEND;TZID=America/Vancouver:20240527T180000
DTSTAMP:20260422T121043
CREATED:20240522T202849Z
LAST-MODIFIED:20260127T230311Z
UID:10003478-1716825600-1716832800@coinations.net
SUMMARY:Castlegar Drum Circle
DESCRIPTION:The Circle of Indigenous Nations Society is offering a community drum circle for Indigenous children\, families and community members.\nLocation: COINS 1801 Connors Rd Castlegar BC\nTime: 4-6pm\nThis will be a potluck gathering so if you can bring an item to share\, great\, but it’s not mandatory.\nSnacks and refreshments will be provided.
URL:https://coinations.net/program/castlegar-drum-circle/2024-05-27/
LOCATION:COINS Castlegar Office\, 1801 Connors road\, Castlegar\, British Columbia\, V1N3N9\, Canada
END:VEVENT
BEGIN:VEVENT
DTSTART;TZID=America/Vancouver:20240307T160000
DTEND;TZID=America/Vancouver:20240307T190000
DTSTAMP:20260422T121043
CREATED:20240205T232936Z
LAST-MODIFIED:20240205T232936Z
UID:10002696-1709827200-1709838000@coinations.net
SUMMARY:Traditional Parenting Castlegar
DESCRIPTION:
URL:https://coinations.net/program/traditional-parenting-castlegar/2024-03-07/
LOCATION:COINS Castlegar Office\, 1801 Connors road\, Castlegar\, British Columbia\, V1N3N9\, Canada
END:VEVENT
BEGIN:VEVENT
DTSTART;TZID=America/Vancouver:20240307T100000
DTEND;TZID=America/Vancouver:20240307T120000
DTSTAMP:20260422T121043
CREATED:20240206T215033Z
LAST-MODIFIED:20240206T215202Z
UID:10002701-1709805600-1709812800@coinations.net
SUMMARY:Cultural Connections
DESCRIPTION:Join CBAL and COINS to drum\, sing songs\, read stories and make crafts. Caregivers with children 2 – 5 years old! \nThese sessions will include cultural teachings as well as a chance to meet other parents and Elders.
URL:https://coinations.net/program/cultural-connections/2024-03-07/
LOCATION:COINS Castlegar Office\, 1801 Connors road\, Castlegar\, British Columbia\, V1N3N9\, Canada
END:VEVENT
BEGIN:VEVENT
DTSTART;TZID=America/Vancouver:20240229T160000
DTEND;TZID=America/Vancouver:20240229T190000
DTSTAMP:20260422T121043
CREATED:20240205T232936Z
LAST-MODIFIED:20240205T232936Z
UID:10002695-1709222400-1709233200@coinations.net
SUMMARY:Traditional Parenting Castlegar
DESCRIPTION:
URL:https://coinations.net/program/traditional-parenting-castlegar/2024-02-29/
LOCATION:COINS Castlegar Office\, 1801 Connors road\, Castlegar\, British Columbia\, V1N3N9\, Canada
END:VEVENT
BEGIN:VEVENT
DTSTART;TZID=America/Vancouver:20240229T100000
DTEND;TZID=America/Vancouver:20240229T120000
DTSTAMP:20260422T121043
CREATED:20240206T215033Z
LAST-MODIFIED:20240206T215202Z
UID:10002700-1709200800-1709208000@coinations.net
SUMMARY:Cultural Connections
DESCRIPTION:Join CBAL and COINS to drum\, sing songs\, read stories and make crafts. Caregivers with children 2 – 5 years old! \nThese sessions will include cultural teachings as well as a chance to meet other parents and Elders.
URL:https://coinations.net/program/cultural-connections/2024-02-29/
LOCATION:COINS Castlegar Office\, 1801 Connors road\, Castlegar\, British Columbia\, V1N3N9\, Canada
END:VEVENT
BEGIN:VEVENT
DTSTART;TZID=America/Vancouver:20240222T160000
DTEND;TZID=America/Vancouver:20240222T190000
DTSTAMP:20260422T121043
CREATED:20240205T232936Z
LAST-MODIFIED:20240205T232936Z
UID:10002694-1708617600-1708628400@coinations.net
SUMMARY:Traditional Parenting Castlegar
DESCRIPTION:
URL:https://coinations.net/program/traditional-parenting-castlegar/2024-02-22/
LOCATION:COINS Castlegar Office\, 1801 Connors road\, Castlegar\, British Columbia\, V1N3N9\, Canada
END:VEVENT
BEGIN:VEVENT
DTSTART;TZID=America/Vancouver:20240222T100000
DTEND;TZID=America/Vancouver:20240222T120000
DTSTAMP:20260422T121043
CREATED:20240206T215033Z
LAST-MODIFIED:20240206T215202Z
UID:10002699-1708596000-1708603200@coinations.net
SUMMARY:Cultural Connections
DESCRIPTION:Join CBAL and COINS to drum\, sing songs\, read stories and make crafts. Caregivers with children 2 – 5 years old! \nThese sessions will include cultural teachings as well as a chance to meet other parents and Elders.
URL:https://coinations.net/program/cultural-connections/2024-02-22/
LOCATION:COINS Castlegar Office\, 1801 Connors road\, Castlegar\, British Columbia\, V1N3N9\, Canada
END:VEVENT
BEGIN:VEVENT
DTSTART;TZID=America/Vancouver:20240215T160000
DTEND;TZID=America/Vancouver:20240215T190000
DTSTAMP:20260422T121043
CREATED:20240205T232936Z
LAST-MODIFIED:20240205T232936Z
UID:10002693-1708012800-1708023600@coinations.net
SUMMARY:Traditional Parenting Castlegar
DESCRIPTION:
URL:https://coinations.net/program/traditional-parenting-castlegar/2024-02-15/
LOCATION:COINS Castlegar Office\, 1801 Connors road\, Castlegar\, British Columbia\, V1N3N9\, Canada
END:VEVENT
BEGIN:VEVENT
DTSTART;TZID=America/Vancouver:20240215T100000
DTEND;TZID=America/Vancouver:20240215T120000
DTSTAMP:20260422T121043
CREATED:20240206T215033Z
LAST-MODIFIED:20240206T215202Z
UID:10002698-1707991200-1707998400@coinations.net
SUMMARY:Cultural Connections
DESCRIPTION:Join CBAL and COINS to drum\, sing songs\, read stories and make crafts. Caregivers with children 2 – 5 years old! \nThese sessions will include cultural teachings as well as a chance to meet other parents and Elders.
URL:https://coinations.net/program/cultural-connections/2024-02-15/
LOCATION:COINS Castlegar Office\, 1801 Connors road\, Castlegar\, British Columbia\, V1N3N9\, Canada
END:VEVENT
BEGIN:VEVENT
DTSTART;TZID=America/Vancouver:20240208T160000
DTEND;TZID=America/Vancouver:20240208T190000
DTSTAMP:20260422T121043
CREATED:20240205T232936Z
LAST-MODIFIED:20240205T232936Z
UID:10002692-1707408000-1707418800@coinations.net
SUMMARY:Traditional Parenting Castlegar
DESCRIPTION:
URL:https://coinations.net/program/traditional-parenting-castlegar/2024-02-08/
LOCATION:COINS Castlegar Office\, 1801 Connors road\, Castlegar\, British Columbia\, V1N3N9\, Canada
END:VEVENT
BEGIN:VEVENT
DTSTART;TZID=America/Vancouver:20240208T100000
DTEND;TZID=America/Vancouver:20240208T120000
DTSTAMP:20260422T121043
CREATED:20240206T215033Z
LAST-MODIFIED:20240206T215202Z
UID:10002697-1707386400-1707393600@coinations.net
SUMMARY:Cultural Connections
DESCRIPTION:Join CBAL and COINS to drum\, sing songs\, read stories and make crafts. Caregivers with children 2 – 5 years old! \nThese sessions will include cultural teachings as well as a chance to meet other parents and Elders.
URL:https://coinations.net/program/cultural-connections/2024-02-08/
LOCATION:COINS Castlegar Office\, 1801 Connors road\, Castlegar\, British Columbia\, V1N3N9\, Canada
END:VEVENT
BEGIN:VEVENT
DTSTART;TZID=America/Vancouver:20230930T110000
DTEND;TZID=America/Vancouver:20230930T130000
DTSTAMP:20260422T121043
CREATED:20230921T173844Z
LAST-MODIFIED:20230925T171818Z
UID:10002587-1696071600-1696078800@coinations.net
SUMMARY:Orange Shirt Day
DESCRIPTION:Poster ORANGE SHIRT DAY \nopen community event
URL:https://coinations.net/program/orange-shirt-day/
LOCATION:COINS Castlegar Office\, 1801 Connors road\, Castlegar\, British Columbia\, V1N3N9\, Canada
ORGANIZER;CN="Jessica":MAILTO:familyconnections@coinations.net
END:VEVENT
BEGIN:VEVENT
DTSTART;TZID=America/Vancouver:20230922T120000
DTEND;TZID=America/Vancouver:20230922T140000
DTSTAMP:20260422T121043
CREATED:20230921T215806Z
LAST-MODIFIED:20230921T215806Z
UID:10002588-1695384000-1695391200@coinations.net
SUMMARY:10 Year Celebration of COINS
DESCRIPTION:
URL:https://coinations.net/program/10-year-celebration-of-coins/
LOCATION:COINS Castlegar Office\, 1801 Connors road\, Castlegar\, British Columbia\, V1N3N9\, Canada
END:VEVENT
END:VCALENDAR