BEGIN:VCALENDAR
VERSION:2.0
PRODID:-//Circle of Indigenous Nations Society - ECPv6.15.18//NONSGML v1.0//EN
CALSCALE:GREGORIAN
METHOD:PUBLISH
X-ORIGINAL-URL:https://coinations.net
X-WR-CALDESC:Events for Circle of Indigenous Nations Society
REFRESH-INTERVAL;VALUE=DURATION:PT1H
X-Robots-Tag:noindex
X-PUBLISHED-TTL:PT1H
BEGIN:VTIMEZONE
TZID:America/Vancouver
BEGIN:DAYLIGHT
TZOFFSETFROM:-0800
TZOFFSETTO:-0700
TZNAME:PDT
DTSTART:20280312T100000
END:DAYLIGHT
BEGIN:STANDARD
TZOFFSETFROM:-0700
TZOFFSETTO:-0800
TZNAME:PST
DTSTART:20281105T090000
END:STANDARD
BEGIN:DAYLIGHT
TZOFFSETFROM:-0800
TZOFFSETTO:-0700
TZNAME:PDT
DTSTART:20290311T100000
END:DAYLIGHT
BEGIN:STANDARD
TZOFFSETFROM:-0700
TZOFFSETTO:-0800
TZNAME:PST
DTSTART:20291104T090000
END:STANDARD
BEGIN:DAYLIGHT
TZOFFSETFROM:-0800
TZOFFSETTO:-0700
TZNAME:PDT
DTSTART:20300310T100000
END:DAYLIGHT
BEGIN:STANDARD
TZOFFSETFROM:-0700
TZOFFSETTO:-0800
TZNAME:PST
DTSTART:20301103T090000
END:STANDARD
BEGIN:DAYLIGHT
TZOFFSETFROM:-0800
TZOFFSETTO:-0700
TZNAME:PDT
DTSTART:20310309T100000
END:DAYLIGHT
BEGIN:STANDARD
TZOFFSETFROM:-0700
TZOFFSETTO:-0800
TZNAME:PST
DTSTART:20311102T090000
END:STANDARD
END:VTIMEZONE
BEGIN:VEVENT
DTSTART;TZID=America/Vancouver:20291015T100000
DTEND;TZID=America/Vancouver:20291015T120000
DTSTAMP:20260425T173530
CREATED:20260414T192858Z
LAST-MODIFIED:20260414T192858Z
UID:10004807-1886752800-1886760000@coinations.net
SUMMARY:Castlegar Healing Our Spirits Circle
DESCRIPTION:Traditional talking circle for mental health and addictions. Elders\, teachings\, ceremony and sharing.\nAll people over 15yrs are welcome. 1st and 3rd Mondays at COINS.\nPlease contact Juanita for more info. (250)551-7525 or healingourspirits1@coinations.net
URL:https://coinations.net/program/castlegar-healing-our-spirits-circle-2-2-2-2-2-2-2/2029-10-15/
LOCATION:COINS Castlegar Office\, 1801 Connors road\, Castlegar\, British Columbia\, V1N3N9\, Canada
ORGANIZER;CN="Juanita":MAILTO:healingourspirits1@coinations.net
END:VEVENT
BEGIN:VEVENT
DTSTART;TZID=America/Vancouver:20291016T090000
DTEND;TZID=America/Vancouver:20291016T120000
DTSTAMP:20260425T173530
CREATED:20260326T182646Z
LAST-MODIFIED:20260326T182646Z
UID:10006515-1886835600-1886846400@coinations.net
SUMMARY:KB Access Clinic - Pre-booked Appts
DESCRIPTION:COINS is partnering with the KB Access Clinic in our Sacred Roots Wellness room at 1801 Connors Road. \nKB Access is setup to bring great healthcare to unattached patients. \nFollow the link below to book a time or drop by to see what is available. \nBook for Clinic time here
URL:https://coinations.net/program/kb-access-clinic-pre-booked-appts-2/2029-10-16/
LOCATION:COINS Castlegar Office\, 1801 Connors road\, Castlegar\, British Columbia\, V1N3N9\, Canada
END:VEVENT
BEGIN:VEVENT
DTSTART;TZID=America/Vancouver:20291016T130000
DTEND;TZID=America/Vancouver:20291016T150000
DTSTAMP:20260425T173530
CREATED:20260326T182810Z
LAST-MODIFIED:20260326T182810Z
UID:10006575-1886850000-1886857200@coinations.net
SUMMARY:KB Access Clinic - Drop in
DESCRIPTION:COINS is partnering with the KB Access Clinic in our Sacred Roots Wellness room at 1801 Connors Road. \nKB Access is setup to bring great healthcare to unattached patients. \nFollow the link below to book a time or drop by to see what is available. \nBook for Clinic time here \n 
URL:https://coinations.net/program/kb-access-clinic-drop-in-2/2029-10-16/
LOCATION:COINS Castlegar Office\, 1801 Connors road\, Castlegar\, British Columbia\, V1N3N9\, Canada
END:VEVENT
BEGIN:VEVENT
DTSTART;TZID=America/Vancouver:20291025T173000
DTEND;TZID=America/Vancouver:20291025T190000
DTSTAMP:20260425T173530
CREATED:20241220T005529Z
LAST-MODIFIED:20241220T005530Z
UID:10005144-1887643800-1887649200@coinations.net
SUMMARY:Castlegar Early Childhood Educator Gathering
DESCRIPTION:Honoring all Early Childhood Educators. \nPlease join us for an evening of sharing\, and drumming- a potluck option\, but not mandatory. \nFor more information please contact Stacey at 250-304-7481\, email earlyintervention@coinations.net
URL:https://coinations.net/program/castlegar-ece-gathering-2/2029-10-25/
LOCATION:COINS Castlegar Office\, 1801 Connors road\, Castlegar\, British Columbia\, V1N3N9\, Canada
END:VEVENT
BEGIN:VEVENT
DTSTART;TZID=America/Vancouver:20291029T160000
DTEND;TZID=America/Vancouver:20291029T180000
DTSTAMP:20260425T173530
CREATED:20240522T202849Z
LAST-MODIFIED:20260127T230311Z
UID:10006090-1887984000-1887991200@coinations.net
SUMMARY:Castlegar Drum Circle
DESCRIPTION:The Circle of Indigenous Nations Society is offering a community drum circle for Indigenous children\, families and community members.\nLocation: COINS 1801 Connors Rd Castlegar BC\nTime: 4-6pm\nThis will be a potluck gathering so if you can bring an item to share\, great\, but it’s not mandatory.\nSnacks and refreshments will be provided.
URL:https://coinations.net/program/castlegar-drum-circle/2029-10-29/
LOCATION:COINS Castlegar Office\, 1801 Connors road\, Castlegar\, British Columbia\, V1N3N9\, Canada
END:VEVENT
BEGIN:VEVENT
DTSTART;TZID=America/Vancouver:20291105T100000
DTEND;TZID=America/Vancouver:20291105T120000
DTSTAMP:20260425T173530
CREATED:20260118T175758Z
LAST-MODIFIED:20260310T155757Z
UID:10004930-1888567200-1888574400@coinations.net
SUMMARY:Castlegar Healing Our Spirits Circle
DESCRIPTION:Traditional talking circle for mental health and addictions. Elders\, teachings\, ceremony and sharing.\nAll people over 15yrs are welcome. 1st and 3rd Mondays at COINS\nPlease contact Juanita for more info. (250)551-7525 or healingourspirits1@coinations.net
URL:https://coinations.net/program/castlegar-healing-our-spirits-circle-2-2-3-2-2-2/2029-11-05/
LOCATION:COINS Castlegar Office\, 1801 Connors road\, Castlegar\, British Columbia\, V1N3N9\, Canada
ORGANIZER;CN="Juanita":MAILTO:healingourspirits1@coinations.net
END:VEVENT
BEGIN:VEVENT
DTSTART;TZID=America/Vancouver:20291106T090000
DTEND;TZID=America/Vancouver:20291106T120000
DTSTAMP:20260425T173530
CREATED:20260326T182348Z
LAST-MODIFIED:20260326T182348Z
UID:10006396-1888650000-1888660800@coinations.net
SUMMARY:KB Access Clinic - Pre-booked Appts
DESCRIPTION:COINS is partnering with the KB Access Clinic in our Sacred Roots Wellness room at 1801 Connors Road. \nKB Access is setup to bring great healthcare to unattached patients. \nFollow the link below to book a time or drop by to see what is available. \nBook for Clinic time here
URL:https://coinations.net/program/kb-access-clinic-pre-booked-appts/2029-11-06/
LOCATION:COINS Castlegar Office\, 1801 Connors road\, Castlegar\, British Columbia\, V1N3N9\, Canada
END:VEVENT
BEGIN:VEVENT
DTSTART;TZID=America/Vancouver:20291106T130000
DTEND;TZID=America/Vancouver:20291106T150000
DTSTAMP:20260425T173530
CREATED:20260326T182524Z
LAST-MODIFIED:20260326T182524Z
UID:10006456-1888664400-1888671600@coinations.net
SUMMARY:KB Access Clinic - Drop in
DESCRIPTION:COINS is partnering with the KB Access Clinic in our Sacred Roots Wellness room at 1801 Connors Road. \nKB Access is setup to bring great healthcare to unattached patients. \nFollow the link below to book a time or drop by to see what is available. \nBook for Clinic time here \n 
URL:https://coinations.net/program/kb-access-clinic-drop-in/2029-11-06/
LOCATION:COINS Castlegar Office\, 1801 Connors road\, Castlegar\, British Columbia\, V1N3N9\, Canada
END:VEVENT
BEGIN:VEVENT
DTSTART;TZID=America/Vancouver:20291119T100000
DTEND;TZID=America/Vancouver:20291119T120000
DTSTAMP:20260425T173530
CREATED:20260414T192858Z
LAST-MODIFIED:20260414T192858Z
UID:10004808-1889776800-1889784000@coinations.net
SUMMARY:Castlegar Healing Our Spirits Circle
DESCRIPTION:Traditional talking circle for mental health and addictions. Elders\, teachings\, ceremony and sharing.\nAll people over 15yrs are welcome. 1st and 3rd Mondays at COINS.\nPlease contact Juanita for more info. (250)551-7525 or healingourspirits1@coinations.net
URL:https://coinations.net/program/castlegar-healing-our-spirits-circle-2-2-2-2-2-2-2/2029-11-19/
LOCATION:COINS Castlegar Office\, 1801 Connors road\, Castlegar\, British Columbia\, V1N3N9\, Canada
ORGANIZER;CN="Juanita":MAILTO:healingourspirits1@coinations.net
END:VEVENT
BEGIN:VEVENT
DTSTART;TZID=America/Vancouver:20291120T090000
DTEND;TZID=America/Vancouver:20291120T120000
DTSTAMP:20260425T173530
CREATED:20260326T182646Z
LAST-MODIFIED:20260326T182646Z
UID:10006516-1889859600-1889870400@coinations.net
SUMMARY:KB Access Clinic - Pre-booked Appts
DESCRIPTION:COINS is partnering with the KB Access Clinic in our Sacred Roots Wellness room at 1801 Connors Road. \nKB Access is setup to bring great healthcare to unattached patients. \nFollow the link below to book a time or drop by to see what is available. \nBook for Clinic time here
URL:https://coinations.net/program/kb-access-clinic-pre-booked-appts-2/2029-11-20/
LOCATION:COINS Castlegar Office\, 1801 Connors road\, Castlegar\, British Columbia\, V1N3N9\, Canada
END:VEVENT
BEGIN:VEVENT
DTSTART;TZID=America/Vancouver:20291120T130000
DTEND;TZID=America/Vancouver:20291120T150000
DTSTAMP:20260425T173530
CREATED:20260326T182810Z
LAST-MODIFIED:20260326T182810Z
UID:10006576-1889874000-1889881200@coinations.net
SUMMARY:KB Access Clinic - Drop in
DESCRIPTION:COINS is partnering with the KB Access Clinic in our Sacred Roots Wellness room at 1801 Connors Road. \nKB Access is setup to bring great healthcare to unattached patients. \nFollow the link below to book a time or drop by to see what is available. \nBook for Clinic time here \n 
URL:https://coinations.net/program/kb-access-clinic-drop-in-2/2029-11-20/
LOCATION:COINS Castlegar Office\, 1801 Connors road\, Castlegar\, British Columbia\, V1N3N9\, Canada
END:VEVENT
BEGIN:VEVENT
DTSTART;TZID=America/Vancouver:20291122T173000
DTEND;TZID=America/Vancouver:20291122T190000
DTSTAMP:20260425T173530
CREATED:20241220T005529Z
LAST-MODIFIED:20241220T005530Z
UID:10005145-1890063000-1890068400@coinations.net
SUMMARY:Castlegar Early Childhood Educator Gathering
DESCRIPTION:Honoring all Early Childhood Educators. \nPlease join us for an evening of sharing\, and drumming- a potluck option\, but not mandatory. \nFor more information please contact Stacey at 250-304-7481\, email earlyintervention@coinations.net
URL:https://coinations.net/program/castlegar-ece-gathering-2/2029-11-22/
LOCATION:COINS Castlegar Office\, 1801 Connors road\, Castlegar\, British Columbia\, V1N3N9\, Canada
END:VEVENT
BEGIN:VEVENT
DTSTART;TZID=America/Vancouver:20291126T160000
DTEND;TZID=America/Vancouver:20291126T180000
DTSTAMP:20260425T173530
CREATED:20240522T202849Z
LAST-MODIFIED:20260127T230311Z
UID:10006091-1890403200-1890410400@coinations.net
SUMMARY:Castlegar Drum Circle
DESCRIPTION:The Circle of Indigenous Nations Society is offering a community drum circle for Indigenous children\, families and community members.\nLocation: COINS 1801 Connors Rd Castlegar BC\nTime: 4-6pm\nThis will be a potluck gathering so if you can bring an item to share\, great\, but it’s not mandatory.\nSnacks and refreshments will be provided.
URL:https://coinations.net/program/castlegar-drum-circle/2029-11-26/
LOCATION:COINS Castlegar Office\, 1801 Connors road\, Castlegar\, British Columbia\, V1N3N9\, Canada
END:VEVENT
BEGIN:VEVENT
DTSTART;TZID=America/Vancouver:20291203T100000
DTEND;TZID=America/Vancouver:20291203T120000
DTSTAMP:20260425T173530
CREATED:20260118T175758Z
LAST-MODIFIED:20260310T155757Z
UID:10004931-1890986400-1890993600@coinations.net
SUMMARY:Castlegar Healing Our Spirits Circle
DESCRIPTION:Traditional talking circle for mental health and addictions. Elders\, teachings\, ceremony and sharing.\nAll people over 15yrs are welcome. 1st and 3rd Mondays at COINS\nPlease contact Juanita for more info. (250)551-7525 or healingourspirits1@coinations.net
URL:https://coinations.net/program/castlegar-healing-our-spirits-circle-2-2-3-2-2-2/2029-12-03/
LOCATION:COINS Castlegar Office\, 1801 Connors road\, Castlegar\, British Columbia\, V1N3N9\, Canada
ORGANIZER;CN="Juanita":MAILTO:healingourspirits1@coinations.net
END:VEVENT
BEGIN:VEVENT
DTSTART;TZID=America/Vancouver:20291204T090000
DTEND;TZID=America/Vancouver:20291204T120000
DTSTAMP:20260425T173530
CREATED:20260326T182348Z
LAST-MODIFIED:20260326T182348Z
UID:10006397-1891069200-1891080000@coinations.net
SUMMARY:KB Access Clinic - Pre-booked Appts
DESCRIPTION:COINS is partnering with the KB Access Clinic in our Sacred Roots Wellness room at 1801 Connors Road. \nKB Access is setup to bring great healthcare to unattached patients. \nFollow the link below to book a time or drop by to see what is available. \nBook for Clinic time here
URL:https://coinations.net/program/kb-access-clinic-pre-booked-appts/2029-12-04/
LOCATION:COINS Castlegar Office\, 1801 Connors road\, Castlegar\, British Columbia\, V1N3N9\, Canada
END:VEVENT
BEGIN:VEVENT
DTSTART;TZID=America/Vancouver:20291204T130000
DTEND;TZID=America/Vancouver:20291204T150000
DTSTAMP:20260425T173530
CREATED:20260326T182524Z
LAST-MODIFIED:20260326T182524Z
UID:10006457-1891083600-1891090800@coinations.net
SUMMARY:KB Access Clinic - Drop in
DESCRIPTION:COINS is partnering with the KB Access Clinic in our Sacred Roots Wellness room at 1801 Connors Road. \nKB Access is setup to bring great healthcare to unattached patients. \nFollow the link below to book a time or drop by to see what is available. \nBook for Clinic time here \n 
URL:https://coinations.net/program/kb-access-clinic-drop-in/2029-12-04/
LOCATION:COINS Castlegar Office\, 1801 Connors road\, Castlegar\, British Columbia\, V1N3N9\, Canada
END:VEVENT
BEGIN:VEVENT
DTSTART;TZID=America/Vancouver:20291217T100000
DTEND;TZID=America/Vancouver:20291217T120000
DTSTAMP:20260425T173530
CREATED:20260414T192858Z
LAST-MODIFIED:20260414T192858Z
UID:10005410-1892196000-1892203200@coinations.net
SUMMARY:Castlegar Healing Our Spirits Circle
DESCRIPTION:Traditional talking circle for mental health and addictions. Elders\, teachings\, ceremony and sharing.\nAll people over 15yrs are welcome. 1st and 3rd Mondays at COINS.\nPlease contact Juanita for more info. (250)551-7525 or healingourspirits1@coinations.net
URL:https://coinations.net/program/castlegar-healing-our-spirits-circle-2-2-2-2-2-2-2/2029-12-17/
LOCATION:COINS Castlegar Office\, 1801 Connors road\, Castlegar\, British Columbia\, V1N3N9\, Canada
ORGANIZER;CN="Juanita":MAILTO:healingourspirits1@coinations.net
END:VEVENT
BEGIN:VEVENT
DTSTART;TZID=America/Vancouver:20291218T090000
DTEND;TZID=America/Vancouver:20291218T120000
DTSTAMP:20260425T173530
CREATED:20260326T182646Z
LAST-MODIFIED:20260326T182646Z
UID:10006517-1892278800-1892289600@coinations.net
SUMMARY:KB Access Clinic - Pre-booked Appts
DESCRIPTION:COINS is partnering with the KB Access Clinic in our Sacred Roots Wellness room at 1801 Connors Road. \nKB Access is setup to bring great healthcare to unattached patients. \nFollow the link below to book a time or drop by to see what is available. \nBook for Clinic time here
URL:https://coinations.net/program/kb-access-clinic-pre-booked-appts-2/2029-12-18/
LOCATION:COINS Castlegar Office\, 1801 Connors road\, Castlegar\, British Columbia\, V1N3N9\, Canada
END:VEVENT
BEGIN:VEVENT
DTSTART;TZID=America/Vancouver:20291218T130000
DTEND;TZID=America/Vancouver:20291218T150000
DTSTAMP:20260425T173530
CREATED:20260326T182810Z
LAST-MODIFIED:20260326T182810Z
UID:10006577-1892293200-1892300400@coinations.net
SUMMARY:KB Access Clinic - Drop in
DESCRIPTION:COINS is partnering with the KB Access Clinic in our Sacred Roots Wellness room at 1801 Connors Road. \nKB Access is setup to bring great healthcare to unattached patients. \nFollow the link below to book a time or drop by to see what is available. \nBook for Clinic time here \n 
URL:https://coinations.net/program/kb-access-clinic-drop-in-2/2029-12-18/
LOCATION:COINS Castlegar Office\, 1801 Connors road\, Castlegar\, British Columbia\, V1N3N9\, Canada
END:VEVENT
BEGIN:VEVENT
DTSTART;TZID=America/Vancouver:20291231T160000
DTEND;TZID=America/Vancouver:20291231T180000
DTSTAMP:20260425T173530
CREATED:20240522T202849Z
LAST-MODIFIED:20260127T230311Z
UID:10006092-1893427200-1893434400@coinations.net
SUMMARY:Castlegar Drum Circle
DESCRIPTION:The Circle of Indigenous Nations Society is offering a community drum circle for Indigenous children\, families and community members.\nLocation: COINS 1801 Connors Rd Castlegar BC\nTime: 4-6pm\nThis will be a potluck gathering so if you can bring an item to share\, great\, but it’s not mandatory.\nSnacks and refreshments will be provided.
URL:https://coinations.net/program/castlegar-drum-circle/2029-12-31/
LOCATION:COINS Castlegar Office\, 1801 Connors road\, Castlegar\, British Columbia\, V1N3N9\, Canada
END:VEVENT
BEGIN:VEVENT
DTSTART;TZID=America/Vancouver:20300101T090000
DTEND;TZID=America/Vancouver:20300101T120000
DTSTAMP:20260425T173530
CREATED:20260326T182348Z
LAST-MODIFIED:20260326T182348Z
UID:10006398-1893488400-1893499200@coinations.net
SUMMARY:KB Access Clinic - Pre-booked Appts
DESCRIPTION:COINS is partnering with the KB Access Clinic in our Sacred Roots Wellness room at 1801 Connors Road. \nKB Access is setup to bring great healthcare to unattached patients. \nFollow the link below to book a time or drop by to see what is available. \nBook for Clinic time here
URL:https://coinations.net/program/kb-access-clinic-pre-booked-appts/2030-01-01/
LOCATION:COINS Castlegar Office\, 1801 Connors road\, Castlegar\, British Columbia\, V1N3N9\, Canada
END:VEVENT
BEGIN:VEVENT
DTSTART;TZID=America/Vancouver:20300101T130000
DTEND;TZID=America/Vancouver:20300101T150000
DTSTAMP:20260425T173530
CREATED:20260326T182524Z
LAST-MODIFIED:20260326T182524Z
UID:10006458-1893502800-1893510000@coinations.net
SUMMARY:KB Access Clinic - Drop in
DESCRIPTION:COINS is partnering with the KB Access Clinic in our Sacred Roots Wellness room at 1801 Connors Road. \nKB Access is setup to bring great healthcare to unattached patients. \nFollow the link below to book a time or drop by to see what is available. \nBook for Clinic time here \n 
URL:https://coinations.net/program/kb-access-clinic-drop-in/2030-01-01/
LOCATION:COINS Castlegar Office\, 1801 Connors road\, Castlegar\, British Columbia\, V1N3N9\, Canada
END:VEVENT
BEGIN:VEVENT
DTSTART;TZID=America/Vancouver:20300107T100000
DTEND;TZID=America/Vancouver:20300107T120000
DTSTAMP:20260425T173530
CREATED:20260118T175758Z
LAST-MODIFIED:20260310T155757Z
UID:10006075-1894010400-1894017600@coinations.net
SUMMARY:Castlegar Healing Our Spirits Circle
DESCRIPTION:Traditional talking circle for mental health and addictions. Elders\, teachings\, ceremony and sharing.\nAll people over 15yrs are welcome. 1st and 3rd Mondays at COINS\nPlease contact Juanita for more info. (250)551-7525 or healingourspirits1@coinations.net
URL:https://coinations.net/program/castlegar-healing-our-spirits-circle-2-2-3-2-2-2/2030-01-07/
LOCATION:COINS Castlegar Office\, 1801 Connors road\, Castlegar\, British Columbia\, V1N3N9\, Canada
ORGANIZER;CN="Juanita":MAILTO:healingourspirits1@coinations.net
END:VEVENT
BEGIN:VEVENT
DTSTART;TZID=America/Vancouver:20300115T090000
DTEND;TZID=America/Vancouver:20300115T120000
DTSTAMP:20260425T173530
CREATED:20260326T182646Z
LAST-MODIFIED:20260326T182646Z
UID:10006518-1894698000-1894708800@coinations.net
SUMMARY:KB Access Clinic - Pre-booked Appts
DESCRIPTION:COINS is partnering with the KB Access Clinic in our Sacred Roots Wellness room at 1801 Connors Road. \nKB Access is setup to bring great healthcare to unattached patients. \nFollow the link below to book a time or drop by to see what is available. \nBook for Clinic time here
URL:https://coinations.net/program/kb-access-clinic-pre-booked-appts-2/2030-01-15/
LOCATION:COINS Castlegar Office\, 1801 Connors road\, Castlegar\, British Columbia\, V1N3N9\, Canada
END:VEVENT
BEGIN:VEVENT
DTSTART;TZID=America/Vancouver:20300115T130000
DTEND;TZID=America/Vancouver:20300115T150000
DTSTAMP:20260425T173530
CREATED:20260326T182810Z
LAST-MODIFIED:20260326T182810Z
UID:10006578-1894712400-1894719600@coinations.net
SUMMARY:KB Access Clinic - Drop in
DESCRIPTION:COINS is partnering with the KB Access Clinic in our Sacred Roots Wellness room at 1801 Connors Road. \nKB Access is setup to bring great healthcare to unattached patients. \nFollow the link below to book a time or drop by to see what is available. \nBook for Clinic time here \n 
URL:https://coinations.net/program/kb-access-clinic-drop-in-2/2030-01-15/
LOCATION:COINS Castlegar Office\, 1801 Connors road\, Castlegar\, British Columbia\, V1N3N9\, Canada
END:VEVENT
BEGIN:VEVENT
DTSTART;TZID=America/Vancouver:20300121T100000
DTEND;TZID=America/Vancouver:20300121T120000
DTSTAMP:20260425T173530
CREATED:20260414T192858Z
LAST-MODIFIED:20260414T192858Z
UID:10005411-1895220000-1895227200@coinations.net
SUMMARY:Castlegar Healing Our Spirits Circle
DESCRIPTION:Traditional talking circle for mental health and addictions. Elders\, teachings\, ceremony and sharing.\nAll people over 15yrs are welcome. 1st and 3rd Mondays at COINS.\nPlease contact Juanita for more info. (250)551-7525 or healingourspirits1@coinations.net
URL:https://coinations.net/program/castlegar-healing-our-spirits-circle-2-2-2-2-2-2-2/2030-01-21/
LOCATION:COINS Castlegar Office\, 1801 Connors road\, Castlegar\, British Columbia\, V1N3N9\, Canada
ORGANIZER;CN="Juanita":MAILTO:healingourspirits1@coinations.net
END:VEVENT
BEGIN:VEVENT
DTSTART;TZID=America/Vancouver:20300128T160000
DTEND;TZID=America/Vancouver:20300128T180000
DTSTAMP:20260425T173530
CREATED:20240522T202849Z
LAST-MODIFIED:20260127T230311Z
UID:10006093-1895846400-1895853600@coinations.net
SUMMARY:Castlegar Drum Circle
DESCRIPTION:The Circle of Indigenous Nations Society is offering a community drum circle for Indigenous children\, families and community members.\nLocation: COINS 1801 Connors Rd Castlegar BC\nTime: 4-6pm\nThis will be a potluck gathering so if you can bring an item to share\, great\, but it’s not mandatory.\nSnacks and refreshments will be provided.
URL:https://coinations.net/program/castlegar-drum-circle/2030-01-28/
LOCATION:COINS Castlegar Office\, 1801 Connors road\, Castlegar\, British Columbia\, V1N3N9\, Canada
END:VEVENT
BEGIN:VEVENT
DTSTART;TZID=America/Vancouver:20300204T100000
DTEND;TZID=America/Vancouver:20300204T120000
DTSTAMP:20260425T173530
CREATED:20260118T175758Z
LAST-MODIFIED:20260310T155757Z
UID:10006076-1896429600-1896436800@coinations.net
SUMMARY:Castlegar Healing Our Spirits Circle
DESCRIPTION:Traditional talking circle for mental health and addictions. Elders\, teachings\, ceremony and sharing.\nAll people over 15yrs are welcome. 1st and 3rd Mondays at COINS\nPlease contact Juanita for more info. (250)551-7525 or healingourspirits1@coinations.net
URL:https://coinations.net/program/castlegar-healing-our-spirits-circle-2-2-3-2-2-2/2030-02-04/
LOCATION:COINS Castlegar Office\, 1801 Connors road\, Castlegar\, British Columbia\, V1N3N9\, Canada
ORGANIZER;CN="Juanita":MAILTO:healingourspirits1@coinations.net
END:VEVENT
BEGIN:VEVENT
DTSTART;TZID=America/Vancouver:20300205T090000
DTEND;TZID=America/Vancouver:20300205T120000
DTSTAMP:20260425T173530
CREATED:20260326T182348Z
LAST-MODIFIED:20260326T182348Z
UID:10006399-1896512400-1896523200@coinations.net
SUMMARY:KB Access Clinic - Pre-booked Appts
DESCRIPTION:COINS is partnering with the KB Access Clinic in our Sacred Roots Wellness room at 1801 Connors Road. \nKB Access is setup to bring great healthcare to unattached patients. \nFollow the link below to book a time or drop by to see what is available. \nBook for Clinic time here
URL:https://coinations.net/program/kb-access-clinic-pre-booked-appts/2030-02-05/
LOCATION:COINS Castlegar Office\, 1801 Connors road\, Castlegar\, British Columbia\, V1N3N9\, Canada
END:VEVENT
BEGIN:VEVENT
DTSTART;TZID=America/Vancouver:20300205T130000
DTEND;TZID=America/Vancouver:20300205T150000
DTSTAMP:20260425T173530
CREATED:20260326T182524Z
LAST-MODIFIED:20260326T182524Z
UID:10006459-1896526800-1896534000@coinations.net
SUMMARY:KB Access Clinic - Drop in
DESCRIPTION:COINS is partnering with the KB Access Clinic in our Sacred Roots Wellness room at 1801 Connors Road. \nKB Access is setup to bring great healthcare to unattached patients. \nFollow the link below to book a time or drop by to see what is available. \nBook for Clinic time here \n 
URL:https://coinations.net/program/kb-access-clinic-drop-in/2030-02-05/
LOCATION:COINS Castlegar Office\, 1801 Connors road\, Castlegar\, British Columbia\, V1N3N9\, Canada
END:VEVENT
END:VCALENDAR