BEGIN:VCALENDAR
VERSION:2.0
PRODID:-//Circle of Indigenous Nations Society - ECPv6.15.18//NONSGML v1.0//EN
CALSCALE:GREGORIAN
METHOD:PUBLISH
X-WR-CALNAME:Circle of Indigenous Nations Society
X-ORIGINAL-URL:https://coinations.net
X-WR-CALDESC:Events for Circle of Indigenous Nations Society
REFRESH-INTERVAL;VALUE=DURATION:PT1H
X-Robots-Tag:noindex
X-PUBLISHED-TTL:PT1H
BEGIN:VTIMEZONE
TZID:America/Vancouver
BEGIN:DAYLIGHT
TZOFFSETFROM:-0800
TZOFFSETTO:-0700
TZNAME:PDT
DTSTART:20280312T100000
END:DAYLIGHT
BEGIN:STANDARD
TZOFFSETFROM:-0700
TZOFFSETTO:-0800
TZNAME:PST
DTSTART:20281105T090000
END:STANDARD
BEGIN:DAYLIGHT
TZOFFSETFROM:-0800
TZOFFSETTO:-0700
TZNAME:PDT
DTSTART:20290311T100000
END:DAYLIGHT
BEGIN:STANDARD
TZOFFSETFROM:-0700
TZOFFSETTO:-0800
TZNAME:PST
DTSTART:20291104T090000
END:STANDARD
BEGIN:DAYLIGHT
TZOFFSETFROM:-0800
TZOFFSETTO:-0700
TZNAME:PDT
DTSTART:20300310T100000
END:DAYLIGHT
BEGIN:STANDARD
TZOFFSETFROM:-0700
TZOFFSETTO:-0800
TZNAME:PST
DTSTART:20301103T090000
END:STANDARD
END:VTIMEZONE
BEGIN:VEVENT
DTSTART;TZID=America/Vancouver:20290528T160000
DTEND;TZID=America/Vancouver:20290528T180000
DTSTAMP:20260425T135052
CREATED:20240522T202849Z
LAST-MODIFIED:20260127T230311Z
UID:10004525-1874678400-1874685600@coinations.net
SUMMARY:Castlegar Drum Circle
DESCRIPTION:The Circle of Indigenous Nations Society is offering a community drum circle for Indigenous children\, families and community members.\nLocation: COINS 1801 Connors Rd Castlegar BC\nTime: 4-6pm\nThis will be a potluck gathering so if you can bring an item to share\, great\, but it’s not mandatory.\nSnacks and refreshments will be provided.
URL:https://coinations.net/program/castlegar-drum-circle/2029-05-28/
LOCATION:COINS Castlegar Office\, 1801 Connors road\, Castlegar\, British Columbia\, V1N3N9\, Canada
END:VEVENT
BEGIN:VEVENT
DTSTART;TZID=America/Vancouver:20290604T100000
DTEND;TZID=America/Vancouver:20290604T120000
DTSTAMP:20260425T135052
CREATED:20260118T175758Z
LAST-MODIFIED:20260310T155757Z
UID:10004925-1875261600-1875268800@coinations.net
SUMMARY:Castlegar Healing Our Spirits Circle
DESCRIPTION:Traditional talking circle for mental health and addictions. Elders\, teachings\, ceremony and sharing.\nAll people over 15yrs are welcome. 1st and 3rd Mondays at COINS\nPlease contact Juanita for more info. (250)551-7525 or healingourspirits1@coinations.net
URL:https://coinations.net/program/castlegar-healing-our-spirits-circle-2-2-3-2-2-2/2029-06-04/
LOCATION:COINS Castlegar Office\, 1801 Connors road\, Castlegar\, British Columbia\, V1N3N9\, Canada
ORGANIZER;CN="Juanita":MAILTO:healingourspirits1@coinations.net
END:VEVENT
BEGIN:VEVENT
DTSTART;TZID=America/Vancouver:20290605T090000
DTEND;TZID=America/Vancouver:20290605T120000
DTSTAMP:20260425T135052
CREATED:20260326T182348Z
LAST-MODIFIED:20260326T182348Z
UID:10006391-1875344400-1875355200@coinations.net
SUMMARY:KB Access Clinic - Pre-booked Appts
DESCRIPTION:COINS is partnering with the KB Access Clinic in our Sacred Roots Wellness room at 1801 Connors Road. \nKB Access is setup to bring great healthcare to unattached patients. \nFollow the link below to book a time or drop by to see what is available. \nBook for Clinic time here
URL:https://coinations.net/program/kb-access-clinic-pre-booked-appts/2029-06-05/
LOCATION:COINS Castlegar Office\, 1801 Connors road\, Castlegar\, British Columbia\, V1N3N9\, Canada
END:VEVENT
BEGIN:VEVENT
DTSTART;TZID=America/Vancouver:20290605T130000
DTEND;TZID=America/Vancouver:20290605T150000
DTSTAMP:20260425T135052
CREATED:20260326T182524Z
LAST-MODIFIED:20260326T182524Z
UID:10006451-1875358800-1875366000@coinations.net
SUMMARY:KB Access Clinic - Drop in
DESCRIPTION:COINS is partnering with the KB Access Clinic in our Sacred Roots Wellness room at 1801 Connors Road. \nKB Access is setup to bring great healthcare to unattached patients. \nFollow the link below to book a time or drop by to see what is available. \nBook for Clinic time here \n 
URL:https://coinations.net/program/kb-access-clinic-drop-in/2029-06-05/
LOCATION:COINS Castlegar Office\, 1801 Connors road\, Castlegar\, British Columbia\, V1N3N9\, Canada
END:VEVENT
BEGIN:VEVENT
DTSTART;TZID=America/Vancouver:20290618T100000
DTEND;TZID=America/Vancouver:20290618T120000
DTSTAMP:20260425T135052
CREATED:20260414T192858Z
LAST-MODIFIED:20260414T192858Z
UID:10003673-1876471200-1876478400@coinations.net
SUMMARY:Castlegar Healing Our Spirits Circle
DESCRIPTION:Traditional talking circle for mental health and addictions. Elders\, teachings\, ceremony and sharing.\nAll people over 15yrs are welcome. 1st and 3rd Mondays at COINS.\nPlease contact Juanita for more info. (250)551-7525 or healingourspirits1@coinations.net
URL:https://coinations.net/program/castlegar-healing-our-spirits-circle-2-2-2-2-2-2-2/2029-06-18/
LOCATION:COINS Castlegar Office\, 1801 Connors road\, Castlegar\, British Columbia\, V1N3N9\, Canada
ORGANIZER;CN="Juanita":MAILTO:healingourspirits1@coinations.net
END:VEVENT
BEGIN:VEVENT
DTSTART;TZID=America/Vancouver:20290619T090000
DTEND;TZID=America/Vancouver:20290619T120000
DTSTAMP:20260425T135052
CREATED:20260326T182646Z
LAST-MODIFIED:20260326T182646Z
UID:10006511-1876554000-1876564800@coinations.net
SUMMARY:KB Access Clinic - Pre-booked Appts
DESCRIPTION:COINS is partnering with the KB Access Clinic in our Sacred Roots Wellness room at 1801 Connors Road. \nKB Access is setup to bring great healthcare to unattached patients. \nFollow the link below to book a time or drop by to see what is available. \nBook for Clinic time here
URL:https://coinations.net/program/kb-access-clinic-pre-booked-appts-2/2029-06-19/
LOCATION:COINS Castlegar Office\, 1801 Connors road\, Castlegar\, British Columbia\, V1N3N9\, Canada
END:VEVENT
BEGIN:VEVENT
DTSTART;TZID=America/Vancouver:20290619T130000
DTEND;TZID=America/Vancouver:20290619T150000
DTSTAMP:20260425T135052
CREATED:20260326T182810Z
LAST-MODIFIED:20260326T182810Z
UID:10006571-1876568400-1876575600@coinations.net
SUMMARY:KB Access Clinic - Drop in
DESCRIPTION:COINS is partnering with the KB Access Clinic in our Sacred Roots Wellness room at 1801 Connors Road. \nKB Access is setup to bring great healthcare to unattached patients. \nFollow the link below to book a time or drop by to see what is available. \nBook for Clinic time here \n 
URL:https://coinations.net/program/kb-access-clinic-drop-in-2/2029-06-19/
LOCATION:COINS Castlegar Office\, 1801 Connors road\, Castlegar\, British Columbia\, V1N3N9\, Canada
END:VEVENT
BEGIN:VEVENT
DTSTART;TZID=America/Vancouver:20290625T160000
DTEND;TZID=America/Vancouver:20290625T180000
DTSTAMP:20260425T135052
CREATED:20240522T202849Z
LAST-MODIFIED:20260127T230311Z
UID:10004526-1877097600-1877104800@coinations.net
SUMMARY:Castlegar Drum Circle
DESCRIPTION:The Circle of Indigenous Nations Society is offering a community drum circle for Indigenous children\, families and community members.\nLocation: COINS 1801 Connors Rd Castlegar BC\nTime: 4-6pm\nThis will be a potluck gathering so if you can bring an item to share\, great\, but it’s not mandatory.\nSnacks and refreshments will be provided.
URL:https://coinations.net/program/castlegar-drum-circle/2029-06-25/
LOCATION:COINS Castlegar Office\, 1801 Connors road\, Castlegar\, British Columbia\, V1N3N9\, Canada
END:VEVENT
BEGIN:VEVENT
DTSTART;TZID=America/Vancouver:20290628T173000
DTEND;TZID=America/Vancouver:20290628T190000
DTSTAMP:20260425T135052
CREATED:20241220T005529Z
LAST-MODIFIED:20241220T005530Z
UID:10005140-1877362200-1877367600@coinations.net
SUMMARY:Castlegar Early Childhood Educator Gathering
DESCRIPTION:Honoring all Early Childhood Educators. \nPlease join us for an evening of sharing\, and drumming- a potluck option\, but not mandatory. \nFor more information please contact Stacey at 250-304-7481\, email earlyintervention@coinations.net
URL:https://coinations.net/program/castlegar-ece-gathering-2/2029-06-28/
LOCATION:COINS Castlegar Office\, 1801 Connors road\, Castlegar\, British Columbia\, V1N3N9\, Canada
END:VEVENT
BEGIN:VEVENT
DTSTART;TZID=America/Vancouver:20290702T100000
DTEND;TZID=America/Vancouver:20290702T120000
DTSTAMP:20260425T135052
CREATED:20260118T175758Z
LAST-MODIFIED:20260310T155757Z
UID:10004926-1877680800-1877688000@coinations.net
SUMMARY:Castlegar Healing Our Spirits Circle
DESCRIPTION:Traditional talking circle for mental health and addictions. Elders\, teachings\, ceremony and sharing.\nAll people over 15yrs are welcome. 1st and 3rd Mondays at COINS\nPlease contact Juanita for more info. (250)551-7525 or healingourspirits1@coinations.net
URL:https://coinations.net/program/castlegar-healing-our-spirits-circle-2-2-3-2-2-2/2029-07-02/
LOCATION:COINS Castlegar Office\, 1801 Connors road\, Castlegar\, British Columbia\, V1N3N9\, Canada
ORGANIZER;CN="Juanita":MAILTO:healingourspirits1@coinations.net
END:VEVENT
BEGIN:VEVENT
DTSTART;TZID=America/Vancouver:20290703T090000
DTEND;TZID=America/Vancouver:20290703T120000
DTSTAMP:20260425T135052
CREATED:20260326T182348Z
LAST-MODIFIED:20260326T182348Z
UID:10006392-1877763600-1877774400@coinations.net
SUMMARY:KB Access Clinic - Pre-booked Appts
DESCRIPTION:COINS is partnering with the KB Access Clinic in our Sacred Roots Wellness room at 1801 Connors Road. \nKB Access is setup to bring great healthcare to unattached patients. \nFollow the link below to book a time or drop by to see what is available. \nBook for Clinic time here
URL:https://coinations.net/program/kb-access-clinic-pre-booked-appts/2029-07-03/
LOCATION:COINS Castlegar Office\, 1801 Connors road\, Castlegar\, British Columbia\, V1N3N9\, Canada
END:VEVENT
BEGIN:VEVENT
DTSTART;TZID=America/Vancouver:20290703T130000
DTEND;TZID=America/Vancouver:20290703T150000
DTSTAMP:20260425T135052
CREATED:20260326T182524Z
LAST-MODIFIED:20260326T182524Z
UID:10006452-1877778000-1877785200@coinations.net
SUMMARY:KB Access Clinic - Drop in
DESCRIPTION:COINS is partnering with the KB Access Clinic in our Sacred Roots Wellness room at 1801 Connors Road. \nKB Access is setup to bring great healthcare to unattached patients. \nFollow the link below to book a time or drop by to see what is available. \nBook for Clinic time here \n 
URL:https://coinations.net/program/kb-access-clinic-drop-in/2029-07-03/
LOCATION:COINS Castlegar Office\, 1801 Connors road\, Castlegar\, British Columbia\, V1N3N9\, Canada
END:VEVENT
BEGIN:VEVENT
DTSTART;TZID=America/Vancouver:20290716T100000
DTEND;TZID=America/Vancouver:20290716T120000
DTSTAMP:20260425T135052
CREATED:20260414T192858Z
LAST-MODIFIED:20260414T192858Z
UID:10004804-1878890400-1878897600@coinations.net
SUMMARY:Castlegar Healing Our Spirits Circle
DESCRIPTION:Traditional talking circle for mental health and addictions. Elders\, teachings\, ceremony and sharing.\nAll people over 15yrs are welcome. 1st and 3rd Mondays at COINS.\nPlease contact Juanita for more info. (250)551-7525 or healingourspirits1@coinations.net
URL:https://coinations.net/program/castlegar-healing-our-spirits-circle-2-2-2-2-2-2-2/2029-07-16/
LOCATION:COINS Castlegar Office\, 1801 Connors road\, Castlegar\, British Columbia\, V1N3N9\, Canada
ORGANIZER;CN="Juanita":MAILTO:healingourspirits1@coinations.net
END:VEVENT
BEGIN:VEVENT
DTSTART;TZID=America/Vancouver:20290717T090000
DTEND;TZID=America/Vancouver:20290717T120000
DTSTAMP:20260425T135052
CREATED:20260326T182646Z
LAST-MODIFIED:20260326T182646Z
UID:10006512-1878973200-1878984000@coinations.net
SUMMARY:KB Access Clinic - Pre-booked Appts
DESCRIPTION:COINS is partnering with the KB Access Clinic in our Sacred Roots Wellness room at 1801 Connors Road. \nKB Access is setup to bring great healthcare to unattached patients. \nFollow the link below to book a time or drop by to see what is available. \nBook for Clinic time here
URL:https://coinations.net/program/kb-access-clinic-pre-booked-appts-2/2029-07-17/
LOCATION:COINS Castlegar Office\, 1801 Connors road\, Castlegar\, British Columbia\, V1N3N9\, Canada
END:VEVENT
BEGIN:VEVENT
DTSTART;TZID=America/Vancouver:20290717T130000
DTEND;TZID=America/Vancouver:20290717T150000
DTSTAMP:20260425T135052
CREATED:20260326T182810Z
LAST-MODIFIED:20260326T182810Z
UID:10006572-1878987600-1878994800@coinations.net
SUMMARY:KB Access Clinic - Drop in
DESCRIPTION:COINS is partnering with the KB Access Clinic in our Sacred Roots Wellness room at 1801 Connors Road. \nKB Access is setup to bring great healthcare to unattached patients. \nFollow the link below to book a time or drop by to see what is available. \nBook for Clinic time here \n 
URL:https://coinations.net/program/kb-access-clinic-drop-in-2/2029-07-17/
LOCATION:COINS Castlegar Office\, 1801 Connors road\, Castlegar\, British Columbia\, V1N3N9\, Canada
END:VEVENT
BEGIN:VEVENT
DTSTART;TZID=America/Vancouver:20290726T173000
DTEND;TZID=America/Vancouver:20290726T190000
DTSTAMP:20260425T135052
CREATED:20241220T005529Z
LAST-MODIFIED:20241220T005530Z
UID:10005141-1879781400-1879786800@coinations.net
SUMMARY:Castlegar Early Childhood Educator Gathering
DESCRIPTION:Honoring all Early Childhood Educators. \nPlease join us for an evening of sharing\, and drumming- a potluck option\, but not mandatory. \nFor more information please contact Stacey at 250-304-7481\, email earlyintervention@coinations.net
URL:https://coinations.net/program/castlegar-ece-gathering-2/2029-07-26/
LOCATION:COINS Castlegar Office\, 1801 Connors road\, Castlegar\, British Columbia\, V1N3N9\, Canada
END:VEVENT
BEGIN:VEVENT
DTSTART;TZID=America/Vancouver:20290730T160000
DTEND;TZID=America/Vancouver:20290730T180000
DTSTAMP:20260425T135052
CREATED:20240522T202849Z
LAST-MODIFIED:20260127T230311Z
UID:10004527-1880121600-1880128800@coinations.net
SUMMARY:Castlegar Drum Circle
DESCRIPTION:The Circle of Indigenous Nations Society is offering a community drum circle for Indigenous children\, families and community members.\nLocation: COINS 1801 Connors Rd Castlegar BC\nTime: 4-6pm\nThis will be a potluck gathering so if you can bring an item to share\, great\, but it’s not mandatory.\nSnacks and refreshments will be provided.
URL:https://coinations.net/program/castlegar-drum-circle/2029-07-30/
LOCATION:COINS Castlegar Office\, 1801 Connors road\, Castlegar\, British Columbia\, V1N3N9\, Canada
END:VEVENT
BEGIN:VEVENT
DTSTART;TZID=America/Vancouver:20290806T100000
DTEND;TZID=America/Vancouver:20290806T120000
DTSTAMP:20260425T135052
CREATED:20260118T175758Z
LAST-MODIFIED:20260310T155757Z
UID:10004927-1880704800-1880712000@coinations.net
SUMMARY:Castlegar Healing Our Spirits Circle
DESCRIPTION:Traditional talking circle for mental health and addictions. Elders\, teachings\, ceremony and sharing.\nAll people over 15yrs are welcome. 1st and 3rd Mondays at COINS\nPlease contact Juanita for more info. (250)551-7525 or healingourspirits1@coinations.net
URL:https://coinations.net/program/castlegar-healing-our-spirits-circle-2-2-3-2-2-2/2029-08-06/
LOCATION:COINS Castlegar Office\, 1801 Connors road\, Castlegar\, British Columbia\, V1N3N9\, Canada
ORGANIZER;CN="Juanita":MAILTO:healingourspirits1@coinations.net
END:VEVENT
BEGIN:VEVENT
DTSTART;TZID=America/Vancouver:20290807T090000
DTEND;TZID=America/Vancouver:20290807T120000
DTSTAMP:20260425T135052
CREATED:20260326T182348Z
LAST-MODIFIED:20260326T182348Z
UID:10006393-1880787600-1880798400@coinations.net
SUMMARY:KB Access Clinic - Pre-booked Appts
DESCRIPTION:COINS is partnering with the KB Access Clinic in our Sacred Roots Wellness room at 1801 Connors Road. \nKB Access is setup to bring great healthcare to unattached patients. \nFollow the link below to book a time or drop by to see what is available. \nBook for Clinic time here
URL:https://coinations.net/program/kb-access-clinic-pre-booked-appts/2029-08-07/
LOCATION:COINS Castlegar Office\, 1801 Connors road\, Castlegar\, British Columbia\, V1N3N9\, Canada
END:VEVENT
BEGIN:VEVENT
DTSTART;TZID=America/Vancouver:20290807T130000
DTEND;TZID=America/Vancouver:20290807T150000
DTSTAMP:20260425T135052
CREATED:20260326T182524Z
LAST-MODIFIED:20260326T182524Z
UID:10006453-1880802000-1880809200@coinations.net
SUMMARY:KB Access Clinic - Drop in
DESCRIPTION:COINS is partnering with the KB Access Clinic in our Sacred Roots Wellness room at 1801 Connors Road. \nKB Access is setup to bring great healthcare to unattached patients. \nFollow the link below to book a time or drop by to see what is available. \nBook for Clinic time here \n 
URL:https://coinations.net/program/kb-access-clinic-drop-in/2029-08-07/
LOCATION:COINS Castlegar Office\, 1801 Connors road\, Castlegar\, British Columbia\, V1N3N9\, Canada
END:VEVENT
BEGIN:VEVENT
DTSTART;TZID=America/Vancouver:20290820T100000
DTEND;TZID=America/Vancouver:20290820T120000
DTSTAMP:20260425T135052
CREATED:20260414T192858Z
LAST-MODIFIED:20260414T192858Z
UID:10004805-1881914400-1881921600@coinations.net
SUMMARY:Castlegar Healing Our Spirits Circle
DESCRIPTION:Traditional talking circle for mental health and addictions. Elders\, teachings\, ceremony and sharing.\nAll people over 15yrs are welcome. 1st and 3rd Mondays at COINS.\nPlease contact Juanita for more info. (250)551-7525 or healingourspirits1@coinations.net
URL:https://coinations.net/program/castlegar-healing-our-spirits-circle-2-2-2-2-2-2-2/2029-08-20/
LOCATION:COINS Castlegar Office\, 1801 Connors road\, Castlegar\, British Columbia\, V1N3N9\, Canada
ORGANIZER;CN="Juanita":MAILTO:healingourspirits1@coinations.net
END:VEVENT
BEGIN:VEVENT
DTSTART;TZID=America/Vancouver:20290821T090000
DTEND;TZID=America/Vancouver:20290821T120000
DTSTAMP:20260425T135052
CREATED:20260326T182646Z
LAST-MODIFIED:20260326T182646Z
UID:10006513-1881997200-1882008000@coinations.net
SUMMARY:KB Access Clinic - Pre-booked Appts
DESCRIPTION:COINS is partnering with the KB Access Clinic in our Sacred Roots Wellness room at 1801 Connors Road. \nKB Access is setup to bring great healthcare to unattached patients. \nFollow the link below to book a time or drop by to see what is available. \nBook for Clinic time here
URL:https://coinations.net/program/kb-access-clinic-pre-booked-appts-2/2029-08-21/
LOCATION:COINS Castlegar Office\, 1801 Connors road\, Castlegar\, British Columbia\, V1N3N9\, Canada
END:VEVENT
BEGIN:VEVENT
DTSTART;TZID=America/Vancouver:20290821T130000
DTEND;TZID=America/Vancouver:20290821T150000
DTSTAMP:20260425T135052
CREATED:20260326T182810Z
LAST-MODIFIED:20260326T182810Z
UID:10006573-1882011600-1882018800@coinations.net
SUMMARY:KB Access Clinic - Drop in
DESCRIPTION:COINS is partnering with the KB Access Clinic in our Sacred Roots Wellness room at 1801 Connors Road. \nKB Access is setup to bring great healthcare to unattached patients. \nFollow the link below to book a time or drop by to see what is available. \nBook for Clinic time here \n 
URL:https://coinations.net/program/kb-access-clinic-drop-in-2/2029-08-21/
LOCATION:COINS Castlegar Office\, 1801 Connors road\, Castlegar\, British Columbia\, V1N3N9\, Canada
END:VEVENT
BEGIN:VEVENT
DTSTART;TZID=America/Vancouver:20290823T173000
DTEND;TZID=America/Vancouver:20290823T190000
DTSTAMP:20260425T135052
CREATED:20241220T005529Z
LAST-MODIFIED:20241220T005530Z
UID:10005142-1882200600-1882206000@coinations.net
SUMMARY:Castlegar Early Childhood Educator Gathering
DESCRIPTION:Honoring all Early Childhood Educators. \nPlease join us for an evening of sharing\, and drumming- a potluck option\, but not mandatory. \nFor more information please contact Stacey at 250-304-7481\, email earlyintervention@coinations.net
URL:https://coinations.net/program/castlegar-ece-gathering-2/2029-08-23/
LOCATION:COINS Castlegar Office\, 1801 Connors road\, Castlegar\, British Columbia\, V1N3N9\, Canada
END:VEVENT
BEGIN:VEVENT
DTSTART;TZID=America/Vancouver:20290827T160000
DTEND;TZID=America/Vancouver:20290827T180000
DTSTAMP:20260425T135052
CREATED:20240522T202849Z
LAST-MODIFIED:20260127T230311Z
UID:10004528-1882540800-1882548000@coinations.net
SUMMARY:Castlegar Drum Circle
DESCRIPTION:The Circle of Indigenous Nations Society is offering a community drum circle for Indigenous children\, families and community members.\nLocation: COINS 1801 Connors Rd Castlegar BC\nTime: 4-6pm\nThis will be a potluck gathering so if you can bring an item to share\, great\, but it’s not mandatory.\nSnacks and refreshments will be provided.
URL:https://coinations.net/program/castlegar-drum-circle/2029-08-27/
LOCATION:COINS Castlegar Office\, 1801 Connors road\, Castlegar\, British Columbia\, V1N3N9\, Canada
END:VEVENT
BEGIN:VEVENT
DTSTART;TZID=America/Vancouver:20290903T100000
DTEND;TZID=America/Vancouver:20290903T120000
DTSTAMP:20260425T135052
CREATED:20260118T175758Z
LAST-MODIFIED:20260310T155757Z
UID:10004928-1883124000-1883131200@coinations.net
SUMMARY:Castlegar Healing Our Spirits Circle
DESCRIPTION:Traditional talking circle for mental health and addictions. Elders\, teachings\, ceremony and sharing.\nAll people over 15yrs are welcome. 1st and 3rd Mondays at COINS\nPlease contact Juanita for more info. (250)551-7525 or healingourspirits1@coinations.net
URL:https://coinations.net/program/castlegar-healing-our-spirits-circle-2-2-3-2-2-2/2029-09-03/
LOCATION:COINS Castlegar Office\, 1801 Connors road\, Castlegar\, British Columbia\, V1N3N9\, Canada
ORGANIZER;CN="Juanita":MAILTO:healingourspirits1@coinations.net
END:VEVENT
BEGIN:VEVENT
DTSTART;TZID=America/Vancouver:20290904T090000
DTEND;TZID=America/Vancouver:20290904T120000
DTSTAMP:20260425T135052
CREATED:20260326T182348Z
LAST-MODIFIED:20260326T182348Z
UID:10006394-1883206800-1883217600@coinations.net
SUMMARY:KB Access Clinic - Pre-booked Appts
DESCRIPTION:COINS is partnering with the KB Access Clinic in our Sacred Roots Wellness room at 1801 Connors Road. \nKB Access is setup to bring great healthcare to unattached patients. \nFollow the link below to book a time or drop by to see what is available. \nBook for Clinic time here
URL:https://coinations.net/program/kb-access-clinic-pre-booked-appts/2029-09-04/
LOCATION:COINS Castlegar Office\, 1801 Connors road\, Castlegar\, British Columbia\, V1N3N9\, Canada
END:VEVENT
BEGIN:VEVENT
DTSTART;TZID=America/Vancouver:20290904T130000
DTEND;TZID=America/Vancouver:20290904T150000
DTSTAMP:20260425T135052
CREATED:20260326T182524Z
LAST-MODIFIED:20260326T182524Z
UID:10006454-1883221200-1883228400@coinations.net
SUMMARY:KB Access Clinic - Drop in
DESCRIPTION:COINS is partnering with the KB Access Clinic in our Sacred Roots Wellness room at 1801 Connors Road. \nKB Access is setup to bring great healthcare to unattached patients. \nFollow the link below to book a time or drop by to see what is available. \nBook for Clinic time here \n 
URL:https://coinations.net/program/kb-access-clinic-drop-in/2029-09-04/
LOCATION:COINS Castlegar Office\, 1801 Connors road\, Castlegar\, British Columbia\, V1N3N9\, Canada
END:VEVENT
BEGIN:VEVENT
DTSTART;TZID=America/Vancouver:20290917T100000
DTEND;TZID=America/Vancouver:20290917T120000
DTSTAMP:20260425T135052
CREATED:20260414T192858Z
LAST-MODIFIED:20260414T192858Z
UID:10004806-1884333600-1884340800@coinations.net
SUMMARY:Castlegar Healing Our Spirits Circle
DESCRIPTION:Traditional talking circle for mental health and addictions. Elders\, teachings\, ceremony and sharing.\nAll people over 15yrs are welcome. 1st and 3rd Mondays at COINS.\nPlease contact Juanita for more info. (250)551-7525 or healingourspirits1@coinations.net
URL:https://coinations.net/program/castlegar-healing-our-spirits-circle-2-2-2-2-2-2-2/2029-09-17/
LOCATION:COINS Castlegar Office\, 1801 Connors road\, Castlegar\, British Columbia\, V1N3N9\, Canada
ORGANIZER;CN="Juanita":MAILTO:healingourspirits1@coinations.net
END:VEVENT
BEGIN:VEVENT
DTSTART;TZID=America/Vancouver:20290918T090000
DTEND;TZID=America/Vancouver:20290918T120000
DTSTAMP:20260425T135052
CREATED:20260326T182646Z
LAST-MODIFIED:20260326T182646Z
UID:10006514-1884416400-1884427200@coinations.net
SUMMARY:KB Access Clinic - Pre-booked Appts
DESCRIPTION:COINS is partnering with the KB Access Clinic in our Sacred Roots Wellness room at 1801 Connors Road. \nKB Access is setup to bring great healthcare to unattached patients. \nFollow the link below to book a time or drop by to see what is available. \nBook for Clinic time here
URL:https://coinations.net/program/kb-access-clinic-pre-booked-appts-2/2029-09-18/
LOCATION:COINS Castlegar Office\, 1801 Connors road\, Castlegar\, British Columbia\, V1N3N9\, Canada
END:VEVENT
END:VCALENDAR