BEGIN:VCALENDAR
VERSION:2.0
PRODID:-//Circle of Indigenous Nations Society - ECPv6.15.18//NONSGML v1.0//EN
CALSCALE:GREGORIAN
METHOD:PUBLISH
X-WR-CALNAME:Circle of Indigenous Nations Society
X-ORIGINAL-URL:https://coinations.net
X-WR-CALDESC:Events for Circle of Indigenous Nations Society
REFRESH-INTERVAL;VALUE=DURATION:PT1H
X-Robots-Tag:noindex
X-PUBLISHED-TTL:PT1H
BEGIN:VTIMEZONE
TZID:America/Vancouver
BEGIN:DAYLIGHT
TZOFFSETFROM:-0800
TZOFFSETTO:-0700
TZNAME:PDT
DTSTART:20250309T100000
END:DAYLIGHT
BEGIN:STANDARD
TZOFFSETFROM:-0700
TZOFFSETTO:-0800
TZNAME:PST
DTSTART:20251102T090000
END:STANDARD
BEGIN:DAYLIGHT
TZOFFSETFROM:-0800
TZOFFSETTO:-0700
TZNAME:PDT
DTSTART:20260308T100000
END:DAYLIGHT
BEGIN:STANDARD
TZOFFSETFROM:-0700
TZOFFSETTO:-0800
TZNAME:PST
DTSTART:20261101T090000
END:STANDARD
BEGIN:DAYLIGHT
TZOFFSETFROM:-0800
TZOFFSETTO:-0700
TZNAME:PDT
DTSTART:20270314T100000
END:DAYLIGHT
BEGIN:STANDARD
TZOFFSETFROM:-0700
TZOFFSETTO:-0800
TZNAME:PST
DTSTART:20271107T090000
END:STANDARD
BEGIN:DAYLIGHT
TZOFFSETFROM:-0800
TZOFFSETTO:-0700
TZNAME:PDT
DTSTART:20280312T100000
END:DAYLIGHT
BEGIN:STANDARD
TZOFFSETFROM:-0700
TZOFFSETTO:-0800
TZNAME:PST
DTSTART:20281105T090000
END:STANDARD
BEGIN:DAYLIGHT
TZOFFSETFROM:-0800
TZOFFSETTO:-0700
TZNAME:PDT
DTSTART:20290311T100000
END:DAYLIGHT
BEGIN:STANDARD
TZOFFSETFROM:-0700
TZOFFSETTO:-0800
TZNAME:PST
DTSTART:20291104T090000
END:STANDARD
END:VTIMEZONE
BEGIN:VEVENT
DTSTART;TZID=America/Vancouver:20260520T123000
DTEND;TZID=America/Vancouver:20260520T143000
DTSTAMP:20260425T032211
CREATED:20230704T215118Z
LAST-MODIFIED:20260323T222258Z
UID:10001649-1779280200-1779287400@coinations.net
SUMMARY:Grand Forks Healing Our Spirits Circle
DESCRIPTION:Traditional Healing Circle for Mental Health and Substance Use\, anyone 15years and up welcome. \nAt the COINS office in Grand Forks (basement) \n1st and 3rd Wednesdays 12:30-2:30 \nContact Vanessa Miller for more information at healingourspritsgf@coinations.net
URL:https://coinations.net/program/grand-forks-healing-our-spirits-circle/2026-05-20/
LOCATION:Circle of Indigenous Nations Society 7525 12th St. Grand Forks\, BC V0H 1H0\, 7525 12th St.\, Grand Forks\, BC\, V0H 1H0\, Canada
END:VEVENT
BEGIN:VEVENT
DTSTART;TZID=America/Vancouver:20260617T123000
DTEND;TZID=America/Vancouver:20260617T143000
DTSTAMP:20260425T032211
CREATED:20230704T215118Z
LAST-MODIFIED:20260323T222258Z
UID:10001650-1781699400-1781706600@coinations.net
SUMMARY:Grand Forks Healing Our Spirits Circle
DESCRIPTION:Traditional Healing Circle for Mental Health and Substance Use\, anyone 15years and up welcome. \nAt the COINS office in Grand Forks (basement) \n1st and 3rd Wednesdays 12:30-2:30 \nContact Vanessa Miller for more information at healingourspritsgf@coinations.net
URL:https://coinations.net/program/grand-forks-healing-our-spirits-circle/2026-06-17/
LOCATION:Circle of Indigenous Nations Society 7525 12th St. Grand Forks\, BC V0H 1H0\, 7525 12th St.\, Grand Forks\, BC\, V0H 1H0\, Canada
END:VEVENT
BEGIN:VEVENT
DTSTART;TZID=America/Vancouver:20260715T123000
DTEND;TZID=America/Vancouver:20260715T143000
DTSTAMP:20260425T032211
CREATED:20230704T215118Z
LAST-MODIFIED:20260323T222258Z
UID:10001651-1784118600-1784125800@coinations.net
SUMMARY:Grand Forks Healing Our Spirits Circle
DESCRIPTION:Traditional Healing Circle for Mental Health and Substance Use\, anyone 15years and up welcome. \nAt the COINS office in Grand Forks (basement) \n1st and 3rd Wednesdays 12:30-2:30 \nContact Vanessa Miller for more information at healingourspritsgf@coinations.net
URL:https://coinations.net/program/grand-forks-healing-our-spirits-circle/2026-07-15/
LOCATION:Circle of Indigenous Nations Society 7525 12th St. Grand Forks\, BC V0H 1H0\, 7525 12th St.\, Grand Forks\, BC\, V0H 1H0\, Canada
END:VEVENT
BEGIN:VEVENT
DTSTART;TZID=America/Vancouver:20260819T123000
DTEND;TZID=America/Vancouver:20260819T143000
DTSTAMP:20260425T032211
CREATED:20230704T215118Z
LAST-MODIFIED:20260323T222258Z
UID:10001652-1787142600-1787149800@coinations.net
SUMMARY:Grand Forks Healing Our Spirits Circle
DESCRIPTION:Traditional Healing Circle for Mental Health and Substance Use\, anyone 15years and up welcome. \nAt the COINS office in Grand Forks (basement) \n1st and 3rd Wednesdays 12:30-2:30 \nContact Vanessa Miller for more information at healingourspritsgf@coinations.net
URL:https://coinations.net/program/grand-forks-healing-our-spirits-circle/2026-08-19/
LOCATION:Circle of Indigenous Nations Society 7525 12th St. Grand Forks\, BC V0H 1H0\, 7525 12th St.\, Grand Forks\, BC\, V0H 1H0\, Canada
END:VEVENT
BEGIN:VEVENT
DTSTART;TZID=America/Vancouver:20260916T123000
DTEND;TZID=America/Vancouver:20260916T143000
DTSTAMP:20260425T032211
CREATED:20230704T215118Z
LAST-MODIFIED:20260323T222258Z
UID:10001653-1789561800-1789569000@coinations.net
SUMMARY:Grand Forks Healing Our Spirits Circle
DESCRIPTION:Traditional Healing Circle for Mental Health and Substance Use\, anyone 15years and up welcome. \nAt the COINS office in Grand Forks (basement) \n1st and 3rd Wednesdays 12:30-2:30 \nContact Vanessa Miller for more information at healingourspritsgf@coinations.net
URL:https://coinations.net/program/grand-forks-healing-our-spirits-circle/2026-09-16/
LOCATION:Circle of Indigenous Nations Society 7525 12th St. Grand Forks\, BC V0H 1H0\, 7525 12th St.\, Grand Forks\, BC\, V0H 1H0\, Canada
END:VEVENT
BEGIN:VEVENT
DTSTART;TZID=America/Vancouver:20261021T123000
DTEND;TZID=America/Vancouver:20261021T143000
DTSTAMP:20260425T032211
CREATED:20230704T215118Z
LAST-MODIFIED:20260323T222258Z
UID:10001654-1792585800-1792593000@coinations.net
SUMMARY:Grand Forks Healing Our Spirits Circle
DESCRIPTION:Traditional Healing Circle for Mental Health and Substance Use\, anyone 15years and up welcome. \nAt the COINS office in Grand Forks (basement) \n1st and 3rd Wednesdays 12:30-2:30 \nContact Vanessa Miller for more information at healingourspritsgf@coinations.net
URL:https://coinations.net/program/grand-forks-healing-our-spirits-circle/2026-10-21/
LOCATION:Circle of Indigenous Nations Society 7525 12th St. Grand Forks\, BC V0H 1H0\, 7525 12th St.\, Grand Forks\, BC\, V0H 1H0\, Canada
END:VEVENT
BEGIN:VEVENT
DTSTART;TZID=America/Vancouver:20261118T123000
DTEND;TZID=America/Vancouver:20261118T143000
DTSTAMP:20260425T032211
CREATED:20230704T215118Z
LAST-MODIFIED:20260323T222258Z
UID:10001655-1795005000-1795012200@coinations.net
SUMMARY:Grand Forks Healing Our Spirits Circle
DESCRIPTION:Traditional Healing Circle for Mental Health and Substance Use\, anyone 15years and up welcome. \nAt the COINS office in Grand Forks (basement) \n1st and 3rd Wednesdays 12:30-2:30 \nContact Vanessa Miller for more information at healingourspritsgf@coinations.net
URL:https://coinations.net/program/grand-forks-healing-our-spirits-circle/2026-11-18/
LOCATION:Circle of Indigenous Nations Society 7525 12th St. Grand Forks\, BC V0H 1H0\, 7525 12th St.\, Grand Forks\, BC\, V0H 1H0\, Canada
END:VEVENT
BEGIN:VEVENT
DTSTART;TZID=America/Vancouver:20261216T123000
DTEND;TZID=America/Vancouver:20261216T143000
DTSTAMP:20260425T032211
CREATED:20230704T215118Z
LAST-MODIFIED:20260323T222258Z
UID:10001656-1797424200-1797431400@coinations.net
SUMMARY:Grand Forks Healing Our Spirits Circle
DESCRIPTION:Traditional Healing Circle for Mental Health and Substance Use\, anyone 15years and up welcome. \nAt the COINS office in Grand Forks (basement) \n1st and 3rd Wednesdays 12:30-2:30 \nContact Vanessa Miller for more information at healingourspritsgf@coinations.net
URL:https://coinations.net/program/grand-forks-healing-our-spirits-circle/2026-12-16/
LOCATION:Circle of Indigenous Nations Society 7525 12th St. Grand Forks\, BC V0H 1H0\, 7525 12th St.\, Grand Forks\, BC\, V0H 1H0\, Canada
END:VEVENT
BEGIN:VEVENT
DTSTART;TZID=America/Vancouver:20270120T123000
DTEND;TZID=America/Vancouver:20270120T143000
DTSTAMP:20260425T032211
CREATED:20230704T215118Z
LAST-MODIFIED:20260323T222258Z
UID:10001657-1800448200-1800455400@coinations.net
SUMMARY:Grand Forks Healing Our Spirits Circle
DESCRIPTION:Traditional Healing Circle for Mental Health and Substance Use\, anyone 15years and up welcome. \nAt the COINS office in Grand Forks (basement) \n1st and 3rd Wednesdays 12:30-2:30 \nContact Vanessa Miller for more information at healingourspritsgf@coinations.net
URL:https://coinations.net/program/grand-forks-healing-our-spirits-circle/2027-01-20/
LOCATION:Circle of Indigenous Nations Society 7525 12th St. Grand Forks\, BC V0H 1H0\, 7525 12th St.\, Grand Forks\, BC\, V0H 1H0\, Canada
END:VEVENT
BEGIN:VEVENT
DTSTART;TZID=America/Vancouver:20270217T123000
DTEND;TZID=America/Vancouver:20270217T143000
DTSTAMP:20260425T032211
CREATED:20230704T215118Z
LAST-MODIFIED:20260323T222258Z
UID:10001658-1802867400-1802874600@coinations.net
SUMMARY:Grand Forks Healing Our Spirits Circle
DESCRIPTION:Traditional Healing Circle for Mental Health and Substance Use\, anyone 15years and up welcome. \nAt the COINS office in Grand Forks (basement) \n1st and 3rd Wednesdays 12:30-2:30 \nContact Vanessa Miller for more information at healingourspritsgf@coinations.net
URL:https://coinations.net/program/grand-forks-healing-our-spirits-circle/2027-02-17/
LOCATION:Circle of Indigenous Nations Society 7525 12th St. Grand Forks\, BC V0H 1H0\, 7525 12th St.\, Grand Forks\, BC\, V0H 1H0\, Canada
END:VEVENT
BEGIN:VEVENT
DTSTART;TZID=America/Vancouver:20270317T123000
DTEND;TZID=America/Vancouver:20270317T143000
DTSTAMP:20260425T032211
CREATED:20230704T215118Z
LAST-MODIFIED:20260323T222258Z
UID:10001659-1805286600-1805293800@coinations.net
SUMMARY:Grand Forks Healing Our Spirits Circle
DESCRIPTION:Traditional Healing Circle for Mental Health and Substance Use\, anyone 15years and up welcome. \nAt the COINS office in Grand Forks (basement) \n1st and 3rd Wednesdays 12:30-2:30 \nContact Vanessa Miller for more information at healingourspritsgf@coinations.net
URL:https://coinations.net/program/grand-forks-healing-our-spirits-circle/2027-03-17/
LOCATION:Circle of Indigenous Nations Society 7525 12th St. Grand Forks\, BC V0H 1H0\, 7525 12th St.\, Grand Forks\, BC\, V0H 1H0\, Canada
END:VEVENT
BEGIN:VEVENT
DTSTART;TZID=America/Vancouver:20270421T123000
DTEND;TZID=America/Vancouver:20270421T143000
DTSTAMP:20260425T032211
CREATED:20230704T215118Z
LAST-MODIFIED:20260323T222258Z
UID:10001660-1808310600-1808317800@coinations.net
SUMMARY:Grand Forks Healing Our Spirits Circle
DESCRIPTION:Traditional Healing Circle for Mental Health and Substance Use\, anyone 15years and up welcome. \nAt the COINS office in Grand Forks (basement) \n1st and 3rd Wednesdays 12:30-2:30 \nContact Vanessa Miller for more information at healingourspritsgf@coinations.net
URL:https://coinations.net/program/grand-forks-healing-our-spirits-circle/2027-04-21/
LOCATION:Circle of Indigenous Nations Society 7525 12th St. Grand Forks\, BC V0H 1H0\, 7525 12th St.\, Grand Forks\, BC\, V0H 1H0\, Canada
END:VEVENT
BEGIN:VEVENT
DTSTART;TZID=America/Vancouver:20270519T123000
DTEND;TZID=America/Vancouver:20270519T143000
DTSTAMP:20260425T032211
CREATED:20230704T215118Z
LAST-MODIFIED:20260323T222258Z
UID:10001661-1810729800-1810737000@coinations.net
SUMMARY:Grand Forks Healing Our Spirits Circle
DESCRIPTION:Traditional Healing Circle for Mental Health and Substance Use\, anyone 15years and up welcome. \nAt the COINS office in Grand Forks (basement) \n1st and 3rd Wednesdays 12:30-2:30 \nContact Vanessa Miller for more information at healingourspritsgf@coinations.net
URL:https://coinations.net/program/grand-forks-healing-our-spirits-circle/2027-05-19/
LOCATION:Circle of Indigenous Nations Society 7525 12th St. Grand Forks\, BC V0H 1H0\, 7525 12th St.\, Grand Forks\, BC\, V0H 1H0\, Canada
END:VEVENT
BEGIN:VEVENT
DTSTART;TZID=America/Vancouver:20270616T123000
DTEND;TZID=America/Vancouver:20270616T143000
DTSTAMP:20260425T032211
CREATED:20230704T215118Z
LAST-MODIFIED:20260323T222258Z
UID:10001662-1813149000-1813156200@coinations.net
SUMMARY:Grand Forks Healing Our Spirits Circle
DESCRIPTION:Traditional Healing Circle for Mental Health and Substance Use\, anyone 15years and up welcome. \nAt the COINS office in Grand Forks (basement) \n1st and 3rd Wednesdays 12:30-2:30 \nContact Vanessa Miller for more information at healingourspritsgf@coinations.net
URL:https://coinations.net/program/grand-forks-healing-our-spirits-circle/2027-06-16/
LOCATION:Circle of Indigenous Nations Society 7525 12th St. Grand Forks\, BC V0H 1H0\, 7525 12th St.\, Grand Forks\, BC\, V0H 1H0\, Canada
END:VEVENT
BEGIN:VEVENT
DTSTART;TZID=America/Vancouver:20270721T123000
DTEND;TZID=America/Vancouver:20270721T143000
DTSTAMP:20260425T032211
CREATED:20230704T215118Z
LAST-MODIFIED:20260323T222258Z
UID:10001663-1816173000-1816180200@coinations.net
SUMMARY:Grand Forks Healing Our Spirits Circle
DESCRIPTION:Traditional Healing Circle for Mental Health and Substance Use\, anyone 15years and up welcome. \nAt the COINS office in Grand Forks (basement) \n1st and 3rd Wednesdays 12:30-2:30 \nContact Vanessa Miller for more information at healingourspritsgf@coinations.net
URL:https://coinations.net/program/grand-forks-healing-our-spirits-circle/2027-07-21/
LOCATION:Circle of Indigenous Nations Society 7525 12th St. Grand Forks\, BC V0H 1H0\, 7525 12th St.\, Grand Forks\, BC\, V0H 1H0\, Canada
END:VEVENT
BEGIN:VEVENT
DTSTART;TZID=America/Vancouver:20270818T123000
DTEND;TZID=America/Vancouver:20270818T143000
DTSTAMP:20260425T032211
CREATED:20230704T215118Z
LAST-MODIFIED:20260323T222258Z
UID:10001664-1818592200-1818599400@coinations.net
SUMMARY:Grand Forks Healing Our Spirits Circle
DESCRIPTION:Traditional Healing Circle for Mental Health and Substance Use\, anyone 15years and up welcome. \nAt the COINS office in Grand Forks (basement) \n1st and 3rd Wednesdays 12:30-2:30 \nContact Vanessa Miller for more information at healingourspritsgf@coinations.net
URL:https://coinations.net/program/grand-forks-healing-our-spirits-circle/2027-08-18/
LOCATION:Circle of Indigenous Nations Society 7525 12th St. Grand Forks\, BC V0H 1H0\, 7525 12th St.\, Grand Forks\, BC\, V0H 1H0\, Canada
END:VEVENT
BEGIN:VEVENT
DTSTART;TZID=America/Vancouver:20270915T123000
DTEND;TZID=America/Vancouver:20270915T143000
DTSTAMP:20260425T032211
CREATED:20230704T215118Z
LAST-MODIFIED:20260323T222258Z
UID:10001665-1821011400-1821018600@coinations.net
SUMMARY:Grand Forks Healing Our Spirits Circle
DESCRIPTION:Traditional Healing Circle for Mental Health and Substance Use\, anyone 15years and up welcome. \nAt the COINS office in Grand Forks (basement) \n1st and 3rd Wednesdays 12:30-2:30 \nContact Vanessa Miller for more information at healingourspritsgf@coinations.net
URL:https://coinations.net/program/grand-forks-healing-our-spirits-circle/2027-09-15/
LOCATION:Circle of Indigenous Nations Society 7525 12th St. Grand Forks\, BC V0H 1H0\, 7525 12th St.\, Grand Forks\, BC\, V0H 1H0\, Canada
END:VEVENT
BEGIN:VEVENT
DTSTART;TZID=America/Vancouver:20271020T123000
DTEND;TZID=America/Vancouver:20271020T143000
DTSTAMP:20260425T032211
CREATED:20230704T215118Z
LAST-MODIFIED:20260323T222258Z
UID:10001666-1824035400-1824042600@coinations.net
SUMMARY:Grand Forks Healing Our Spirits Circle
DESCRIPTION:Traditional Healing Circle for Mental Health and Substance Use\, anyone 15years and up welcome. \nAt the COINS office in Grand Forks (basement) \n1st and 3rd Wednesdays 12:30-2:30 \nContact Vanessa Miller for more information at healingourspritsgf@coinations.net
URL:https://coinations.net/program/grand-forks-healing-our-spirits-circle/2027-10-20/
LOCATION:Circle of Indigenous Nations Society 7525 12th St. Grand Forks\, BC V0H 1H0\, 7525 12th St.\, Grand Forks\, BC\, V0H 1H0\, Canada
END:VEVENT
BEGIN:VEVENT
DTSTART;TZID=America/Vancouver:20271117T123000
DTEND;TZID=America/Vancouver:20271117T143000
DTSTAMP:20260425T032211
CREATED:20230704T215118Z
LAST-MODIFIED:20260323T222258Z
UID:10001667-1826454600-1826461800@coinations.net
SUMMARY:Grand Forks Healing Our Spirits Circle
DESCRIPTION:Traditional Healing Circle for Mental Health and Substance Use\, anyone 15years and up welcome. \nAt the COINS office in Grand Forks (basement) \n1st and 3rd Wednesdays 12:30-2:30 \nContact Vanessa Miller for more information at healingourspritsgf@coinations.net
URL:https://coinations.net/program/grand-forks-healing-our-spirits-circle/2027-11-17/
LOCATION:Circle of Indigenous Nations Society 7525 12th St. Grand Forks\, BC V0H 1H0\, 7525 12th St.\, Grand Forks\, BC\, V0H 1H0\, Canada
END:VEVENT
BEGIN:VEVENT
DTSTART;TZID=America/Vancouver:20271215T123000
DTEND;TZID=America/Vancouver:20271215T143000
DTSTAMP:20260425T032211
CREATED:20230704T215118Z
LAST-MODIFIED:20260323T222258Z
UID:10001668-1828873800-1828881000@coinations.net
SUMMARY:Grand Forks Healing Our Spirits Circle
DESCRIPTION:Traditional Healing Circle for Mental Health and Substance Use\, anyone 15years and up welcome. \nAt the COINS office in Grand Forks (basement) \n1st and 3rd Wednesdays 12:30-2:30 \nContact Vanessa Miller for more information at healingourspritsgf@coinations.net
URL:https://coinations.net/program/grand-forks-healing-our-spirits-circle/2027-12-15/
LOCATION:Circle of Indigenous Nations Society 7525 12th St. Grand Forks\, BC V0H 1H0\, 7525 12th St.\, Grand Forks\, BC\, V0H 1H0\, Canada
END:VEVENT
BEGIN:VEVENT
DTSTART;TZID=America/Vancouver:20280119T123000
DTEND;TZID=America/Vancouver:20280119T143000
DTSTAMP:20260425T032211
CREATED:20230704T215118Z
LAST-MODIFIED:20260323T222258Z
UID:10001669-1831897800-1831905000@coinations.net
SUMMARY:Grand Forks Healing Our Spirits Circle
DESCRIPTION:Traditional Healing Circle for Mental Health and Substance Use\, anyone 15years and up welcome. \nAt the COINS office in Grand Forks (basement) \n1st and 3rd Wednesdays 12:30-2:30 \nContact Vanessa Miller for more information at healingourspritsgf@coinations.net
URL:https://coinations.net/program/grand-forks-healing-our-spirits-circle/2028-01-19/
LOCATION:Circle of Indigenous Nations Society 7525 12th St. Grand Forks\, BC V0H 1H0\, 7525 12th St.\, Grand Forks\, BC\, V0H 1H0\, Canada
END:VEVENT
BEGIN:VEVENT
DTSTART;TZID=America/Vancouver:20280216T123000
DTEND;TZID=America/Vancouver:20280216T143000
DTSTAMP:20260425T032211
CREATED:20230704T215118Z
LAST-MODIFIED:20260323T222258Z
UID:10001670-1834317000-1834324200@coinations.net
SUMMARY:Grand Forks Healing Our Spirits Circle
DESCRIPTION:Traditional Healing Circle for Mental Health and Substance Use\, anyone 15years and up welcome. \nAt the COINS office in Grand Forks (basement) \n1st and 3rd Wednesdays 12:30-2:30 \nContact Vanessa Miller for more information at healingourspritsgf@coinations.net
URL:https://coinations.net/program/grand-forks-healing-our-spirits-circle/2028-02-16/
LOCATION:Circle of Indigenous Nations Society 7525 12th St. Grand Forks\, BC V0H 1H0\, 7525 12th St.\, Grand Forks\, BC\, V0H 1H0\, Canada
END:VEVENT
BEGIN:VEVENT
DTSTART;TZID=America/Vancouver:20280315T123000
DTEND;TZID=America/Vancouver:20280315T143000
DTSTAMP:20260425T032211
CREATED:20230704T215118Z
LAST-MODIFIED:20260323T222258Z
UID:10001671-1836736200-1836743400@coinations.net
SUMMARY:Grand Forks Healing Our Spirits Circle
DESCRIPTION:Traditional Healing Circle for Mental Health and Substance Use\, anyone 15years and up welcome. \nAt the COINS office in Grand Forks (basement) \n1st and 3rd Wednesdays 12:30-2:30 \nContact Vanessa Miller for more information at healingourspritsgf@coinations.net
URL:https://coinations.net/program/grand-forks-healing-our-spirits-circle/2028-03-15/
LOCATION:Circle of Indigenous Nations Society 7525 12th St. Grand Forks\, BC V0H 1H0\, 7525 12th St.\, Grand Forks\, BC\, V0H 1H0\, Canada
END:VEVENT
BEGIN:VEVENT
DTSTART;TZID=America/Vancouver:20280419T123000
DTEND;TZID=America/Vancouver:20280419T143000
DTSTAMP:20260425T032211
CREATED:20230704T215118Z
LAST-MODIFIED:20260323T222258Z
UID:10001672-1839760200-1839767400@coinations.net
SUMMARY:Grand Forks Healing Our Spirits Circle
DESCRIPTION:Traditional Healing Circle for Mental Health and Substance Use\, anyone 15years and up welcome. \nAt the COINS office in Grand Forks (basement) \n1st and 3rd Wednesdays 12:30-2:30 \nContact Vanessa Miller for more information at healingourspritsgf@coinations.net
URL:https://coinations.net/program/grand-forks-healing-our-spirits-circle/2028-04-19/
LOCATION:Circle of Indigenous Nations Society 7525 12th St. Grand Forks\, BC V0H 1H0\, 7525 12th St.\, Grand Forks\, BC\, V0H 1H0\, Canada
END:VEVENT
BEGIN:VEVENT
DTSTART;TZID=America/Vancouver:20280517T123000
DTEND;TZID=America/Vancouver:20280517T143000
DTSTAMP:20260425T032211
CREATED:20230704T215118Z
LAST-MODIFIED:20260323T222258Z
UID:10001673-1842179400-1842186600@coinations.net
SUMMARY:Grand Forks Healing Our Spirits Circle
DESCRIPTION:Traditional Healing Circle for Mental Health and Substance Use\, anyone 15years and up welcome. \nAt the COINS office in Grand Forks (basement) \n1st and 3rd Wednesdays 12:30-2:30 \nContact Vanessa Miller for more information at healingourspritsgf@coinations.net
URL:https://coinations.net/program/grand-forks-healing-our-spirits-circle/2028-05-17/
LOCATION:Circle of Indigenous Nations Society 7525 12th St. Grand Forks\, BC V0H 1H0\, 7525 12th St.\, Grand Forks\, BC\, V0H 1H0\, Canada
END:VEVENT
BEGIN:VEVENT
DTSTART;TZID=America/Vancouver:20280621T123000
DTEND;TZID=America/Vancouver:20280621T143000
DTSTAMP:20260425T032211
CREATED:20230704T215118Z
LAST-MODIFIED:20260323T222258Z
UID:10001674-1845203400-1845210600@coinations.net
SUMMARY:Grand Forks Healing Our Spirits Circle
DESCRIPTION:Traditional Healing Circle for Mental Health and Substance Use\, anyone 15years and up welcome. \nAt the COINS office in Grand Forks (basement) \n1st and 3rd Wednesdays 12:30-2:30 \nContact Vanessa Miller for more information at healingourspritsgf@coinations.net
URL:https://coinations.net/program/grand-forks-healing-our-spirits-circle/2028-06-21/
LOCATION:Circle of Indigenous Nations Society 7525 12th St. Grand Forks\, BC V0H 1H0\, 7525 12th St.\, Grand Forks\, BC\, V0H 1H0\, Canada
END:VEVENT
BEGIN:VEVENT
DTSTART;TZID=America/Vancouver:20280719T123000
DTEND;TZID=America/Vancouver:20280719T143000
DTSTAMP:20260425T032211
CREATED:20230704T215118Z
LAST-MODIFIED:20260323T222258Z
UID:10005067-1847622600-1847629800@coinations.net
SUMMARY:Grand Forks Healing Our Spirits Circle
DESCRIPTION:Traditional Healing Circle for Mental Health and Substance Use\, anyone 15years and up welcome. \nAt the COINS office in Grand Forks (basement) \n1st and 3rd Wednesdays 12:30-2:30 \nContact Vanessa Miller for more information at healingourspritsgf@coinations.net
URL:https://coinations.net/program/grand-forks-healing-our-spirits-circle/2028-07-19/
LOCATION:Circle of Indigenous Nations Society 7525 12th St. Grand Forks\, BC V0H 1H0\, 7525 12th St.\, Grand Forks\, BC\, V0H 1H0\, Canada
END:VEVENT
BEGIN:VEVENT
DTSTART;TZID=America/Vancouver:20280816T123000
DTEND;TZID=America/Vancouver:20280816T143000
DTSTAMP:20260425T032211
CREATED:20230704T215118Z
LAST-MODIFIED:20260323T222258Z
UID:10005068-1850041800-1850049000@coinations.net
SUMMARY:Grand Forks Healing Our Spirits Circle
DESCRIPTION:Traditional Healing Circle for Mental Health and Substance Use\, anyone 15years and up welcome. \nAt the COINS office in Grand Forks (basement) \n1st and 3rd Wednesdays 12:30-2:30 \nContact Vanessa Miller for more information at healingourspritsgf@coinations.net
URL:https://coinations.net/program/grand-forks-healing-our-spirits-circle/2028-08-16/
LOCATION:Circle of Indigenous Nations Society 7525 12th St. Grand Forks\, BC V0H 1H0\, 7525 12th St.\, Grand Forks\, BC\, V0H 1H0\, Canada
END:VEVENT
BEGIN:VEVENT
DTSTART;TZID=America/Vancouver:20280920T123000
DTEND;TZID=America/Vancouver:20280920T143000
DTSTAMP:20260425T032211
CREATED:20230704T215118Z
LAST-MODIFIED:20260323T222258Z
UID:10005069-1853065800-1853073000@coinations.net
SUMMARY:Grand Forks Healing Our Spirits Circle
DESCRIPTION:Traditional Healing Circle for Mental Health and Substance Use\, anyone 15years and up welcome. \nAt the COINS office in Grand Forks (basement) \n1st and 3rd Wednesdays 12:30-2:30 \nContact Vanessa Miller for more information at healingourspritsgf@coinations.net
URL:https://coinations.net/program/grand-forks-healing-our-spirits-circle/2028-09-20/
LOCATION:Circle of Indigenous Nations Society 7525 12th St. Grand Forks\, BC V0H 1H0\, 7525 12th St.\, Grand Forks\, BC\, V0H 1H0\, Canada
END:VEVENT
BEGIN:VEVENT
DTSTART;TZID=America/Vancouver:20281018T123000
DTEND;TZID=America/Vancouver:20281018T143000
DTSTAMP:20260425T032211
CREATED:20230704T215118Z
LAST-MODIFIED:20260323T222258Z
UID:10005070-1855485000-1855492200@coinations.net
SUMMARY:Grand Forks Healing Our Spirits Circle
DESCRIPTION:Traditional Healing Circle for Mental Health and Substance Use\, anyone 15years and up welcome. \nAt the COINS office in Grand Forks (basement) \n1st and 3rd Wednesdays 12:30-2:30 \nContact Vanessa Miller for more information at healingourspritsgf@coinations.net
URL:https://coinations.net/program/grand-forks-healing-our-spirits-circle/2028-10-18/
LOCATION:Circle of Indigenous Nations Society 7525 12th St. Grand Forks\, BC V0H 1H0\, 7525 12th St.\, Grand Forks\, BC\, V0H 1H0\, Canada
END:VEVENT
END:VCALENDAR