BEGIN:VCALENDAR
VERSION:2.0
PRODID:-//Circle of Indigenous Nations Society - ECPv6.15.18//NONSGML v1.0//EN
CALSCALE:GREGORIAN
METHOD:PUBLISH
X-WR-CALNAME:Circle of Indigenous Nations Society
X-ORIGINAL-URL:https://coinations.net
X-WR-CALDESC:Events for Circle of Indigenous Nations Society
REFRESH-INTERVAL;VALUE=DURATION:PT1H
X-Robots-Tag:noindex
X-PUBLISHED-TTL:PT1H
BEGIN:VTIMEZONE
TZID:America/Vancouver
BEGIN:DAYLIGHT
TZOFFSETFROM:-0800
TZOFFSETTO:-0700
TZNAME:PDT
DTSTART:20250309T100000
END:DAYLIGHT
BEGIN:STANDARD
TZOFFSETFROM:-0700
TZOFFSETTO:-0800
TZNAME:PST
DTSTART:20251102T090000
END:STANDARD
BEGIN:DAYLIGHT
TZOFFSETFROM:-0800
TZOFFSETTO:-0700
TZNAME:PDT
DTSTART:20260308T100000
END:DAYLIGHT
BEGIN:STANDARD
TZOFFSETFROM:-0700
TZOFFSETTO:-0800
TZNAME:PST
DTSTART:20261101T090000
END:STANDARD
BEGIN:DAYLIGHT
TZOFFSETFROM:-0800
TZOFFSETTO:-0700
TZNAME:PDT
DTSTART:20270314T100000
END:DAYLIGHT
BEGIN:STANDARD
TZOFFSETFROM:-0700
TZOFFSETTO:-0800
TZNAME:PST
DTSTART:20271107T090000
END:STANDARD
BEGIN:DAYLIGHT
TZOFFSETFROM:-0800
TZOFFSETTO:-0700
TZNAME:PDT
DTSTART:20280312T100000
END:DAYLIGHT
BEGIN:STANDARD
TZOFFSETFROM:-0700
TZOFFSETTO:-0800
TZNAME:PST
DTSTART:20281105T090000
END:STANDARD
BEGIN:DAYLIGHT
TZOFFSETFROM:-0800
TZOFFSETTO:-0700
TZNAME:PDT
DTSTART:20290311T100000
END:DAYLIGHT
BEGIN:STANDARD
TZOFFSETFROM:-0700
TZOFFSETTO:-0800
TZNAME:PST
DTSTART:20291104T090000
END:STANDARD
END:VTIMEZONE
BEGIN:VEVENT
DTSTART;TZID=America/Vancouver:20260428T173000
DTEND;TZID=America/Vancouver:20260428T190000
DTSTAMP:20260419T073229
CREATED:20231003T155431Z
LAST-MODIFIED:20240131T154405Z
UID:10001058-1777397400-1777402800@coinations.net
SUMMARY:Wellbriety (Indigenous 12step) Meeting
DESCRIPTION:Drop-in Indigenous 12step meetings. Food provided.  On the 2nd and 4th Tuesdays from 5:30-7pm \nAt the Nelson United Church (602 Silica St.) on the 3rd floor in the Fairview room. Do not use the main entrances to the church. Use the side door up the sidewalk next to the house.
URL:https://coinations.net/program/wellbriety-indigenous-12step-meeting-2/2026-04-28/
LOCATION:Nelson United Church\, 602 Silica St\, Nelson\, BC\, V1L 4N1\, Canada
END:VEVENT
BEGIN:VEVENT
DTSTART;TZID=America/Vancouver:20260526T173000
DTEND;TZID=America/Vancouver:20260526T190000
DTSTAMP:20260419T073229
CREATED:20231003T155431Z
LAST-MODIFIED:20240131T154405Z
UID:10001059-1779816600-1779822000@coinations.net
SUMMARY:Wellbriety (Indigenous 12step) Meeting
DESCRIPTION:Drop-in Indigenous 12step meetings. Food provided.  On the 2nd and 4th Tuesdays from 5:30-7pm \nAt the Nelson United Church (602 Silica St.) on the 3rd floor in the Fairview room. Do not use the main entrances to the church. Use the side door up the sidewalk next to the house.
URL:https://coinations.net/program/wellbriety-indigenous-12step-meeting-2/2026-05-26/
LOCATION:Nelson United Church\, 602 Silica St\, Nelson\, BC\, V1L 4N1\, Canada
END:VEVENT
BEGIN:VEVENT
DTSTART;TZID=America/Vancouver:20260623T173000
DTEND;TZID=America/Vancouver:20260623T190000
DTSTAMP:20260419T073229
CREATED:20231003T155431Z
LAST-MODIFIED:20240131T154405Z
UID:10001060-1782235800-1782241200@coinations.net
SUMMARY:Wellbriety (Indigenous 12step) Meeting
DESCRIPTION:Drop-in Indigenous 12step meetings. Food provided.  On the 2nd and 4th Tuesdays from 5:30-7pm \nAt the Nelson United Church (602 Silica St.) on the 3rd floor in the Fairview room. Do not use the main entrances to the church. Use the side door up the sidewalk next to the house.
URL:https://coinations.net/program/wellbriety-indigenous-12step-meeting-2/2026-06-23/
LOCATION:Nelson United Church\, 602 Silica St\, Nelson\, BC\, V1L 4N1\, Canada
END:VEVENT
BEGIN:VEVENT
DTSTART;TZID=America/Vancouver:20260728T173000
DTEND;TZID=America/Vancouver:20260728T190000
DTSTAMP:20260419T073229
CREATED:20231003T155431Z
LAST-MODIFIED:20240131T154405Z
UID:10001061-1785259800-1785265200@coinations.net
SUMMARY:Wellbriety (Indigenous 12step) Meeting
DESCRIPTION:Drop-in Indigenous 12step meetings. Food provided.  On the 2nd and 4th Tuesdays from 5:30-7pm \nAt the Nelson United Church (602 Silica St.) on the 3rd floor in the Fairview room. Do not use the main entrances to the church. Use the side door up the sidewalk next to the house.
URL:https://coinations.net/program/wellbriety-indigenous-12step-meeting-2/2026-07-28/
LOCATION:Nelson United Church\, 602 Silica St\, Nelson\, BC\, V1L 4N1\, Canada
END:VEVENT
BEGIN:VEVENT
DTSTART;TZID=America/Vancouver:20260825T173000
DTEND;TZID=America/Vancouver:20260825T190000
DTSTAMP:20260419T073229
CREATED:20231003T155431Z
LAST-MODIFIED:20240131T154405Z
UID:10001062-1787679000-1787684400@coinations.net
SUMMARY:Wellbriety (Indigenous 12step) Meeting
DESCRIPTION:Drop-in Indigenous 12step meetings. Food provided.  On the 2nd and 4th Tuesdays from 5:30-7pm \nAt the Nelson United Church (602 Silica St.) on the 3rd floor in the Fairview room. Do not use the main entrances to the church. Use the side door up the sidewalk next to the house.
URL:https://coinations.net/program/wellbriety-indigenous-12step-meeting-2/2026-08-25/
LOCATION:Nelson United Church\, 602 Silica St\, Nelson\, BC\, V1L 4N1\, Canada
END:VEVENT
BEGIN:VEVENT
DTSTART;TZID=America/Vancouver:20260922T173000
DTEND;TZID=America/Vancouver:20260922T190000
DTSTAMP:20260419T073229
CREATED:20231003T155431Z
LAST-MODIFIED:20240131T154405Z
UID:10001063-1790098200-1790103600@coinations.net
SUMMARY:Wellbriety (Indigenous 12step) Meeting
DESCRIPTION:Drop-in Indigenous 12step meetings. Food provided.  On the 2nd and 4th Tuesdays from 5:30-7pm \nAt the Nelson United Church (602 Silica St.) on the 3rd floor in the Fairview room. Do not use the main entrances to the church. Use the side door up the sidewalk next to the house.
URL:https://coinations.net/program/wellbriety-indigenous-12step-meeting-2/2026-09-22/
LOCATION:Nelson United Church\, 602 Silica St\, Nelson\, BC\, V1L 4N1\, Canada
END:VEVENT
BEGIN:VEVENT
DTSTART;TZID=America/Vancouver:20261027T173000
DTEND;TZID=America/Vancouver:20261027T190000
DTSTAMP:20260419T073229
CREATED:20231003T155431Z
LAST-MODIFIED:20240131T154405Z
UID:10001064-1793122200-1793127600@coinations.net
SUMMARY:Wellbriety (Indigenous 12step) Meeting
DESCRIPTION:Drop-in Indigenous 12step meetings. Food provided.  On the 2nd and 4th Tuesdays from 5:30-7pm \nAt the Nelson United Church (602 Silica St.) on the 3rd floor in the Fairview room. Do not use the main entrances to the church. Use the side door up the sidewalk next to the house.
URL:https://coinations.net/program/wellbriety-indigenous-12step-meeting-2/2026-10-27/
LOCATION:Nelson United Church\, 602 Silica St\, Nelson\, BC\, V1L 4N1\, Canada
END:VEVENT
BEGIN:VEVENT
DTSTART;TZID=America/Vancouver:20261124T173000
DTEND;TZID=America/Vancouver:20261124T190000
DTSTAMP:20260419T073229
CREATED:20231003T155431Z
LAST-MODIFIED:20240131T154405Z
UID:10001065-1795541400-1795546800@coinations.net
SUMMARY:Wellbriety (Indigenous 12step) Meeting
DESCRIPTION:Drop-in Indigenous 12step meetings. Food provided.  On the 2nd and 4th Tuesdays from 5:30-7pm \nAt the Nelson United Church (602 Silica St.) on the 3rd floor in the Fairview room. Do not use the main entrances to the church. Use the side door up the sidewalk next to the house.
URL:https://coinations.net/program/wellbriety-indigenous-12step-meeting-2/2026-11-24/
LOCATION:Nelson United Church\, 602 Silica St\, Nelson\, BC\, V1L 4N1\, Canada
END:VEVENT
BEGIN:VEVENT
DTSTART;TZID=America/Vancouver:20261222T173000
DTEND;TZID=America/Vancouver:20261222T190000
DTSTAMP:20260419T073229
CREATED:20231003T155431Z
LAST-MODIFIED:20240131T154405Z
UID:10001066-1797960600-1797966000@coinations.net
SUMMARY:Wellbriety (Indigenous 12step) Meeting
DESCRIPTION:Drop-in Indigenous 12step meetings. Food provided.  On the 2nd and 4th Tuesdays from 5:30-7pm \nAt the Nelson United Church (602 Silica St.) on the 3rd floor in the Fairview room. Do not use the main entrances to the church. Use the side door up the sidewalk next to the house.
URL:https://coinations.net/program/wellbriety-indigenous-12step-meeting-2/2026-12-22/
LOCATION:Nelson United Church\, 602 Silica St\, Nelson\, BC\, V1L 4N1\, Canada
END:VEVENT
BEGIN:VEVENT
DTSTART;TZID=America/Vancouver:20270126T173000
DTEND;TZID=America/Vancouver:20270126T190000
DTSTAMP:20260419T073229
CREATED:20231003T155431Z
LAST-MODIFIED:20240131T154405Z
UID:10001067-1800984600-1800990000@coinations.net
SUMMARY:Wellbriety (Indigenous 12step) Meeting
DESCRIPTION:Drop-in Indigenous 12step meetings. Food provided.  On the 2nd and 4th Tuesdays from 5:30-7pm \nAt the Nelson United Church (602 Silica St.) on the 3rd floor in the Fairview room. Do not use the main entrances to the church. Use the side door up the sidewalk next to the house.
URL:https://coinations.net/program/wellbriety-indigenous-12step-meeting-2/2027-01-26/
LOCATION:Nelson United Church\, 602 Silica St\, Nelson\, BC\, V1L 4N1\, Canada
END:VEVENT
BEGIN:VEVENT
DTSTART;TZID=America/Vancouver:20270223T173000
DTEND;TZID=America/Vancouver:20270223T190000
DTSTAMP:20260419T073229
CREATED:20231003T155431Z
LAST-MODIFIED:20240131T154405Z
UID:10001068-1803403800-1803409200@coinations.net
SUMMARY:Wellbriety (Indigenous 12step) Meeting
DESCRIPTION:Drop-in Indigenous 12step meetings. Food provided.  On the 2nd and 4th Tuesdays from 5:30-7pm \nAt the Nelson United Church (602 Silica St.) on the 3rd floor in the Fairview room. Do not use the main entrances to the church. Use the side door up the sidewalk next to the house.
URL:https://coinations.net/program/wellbriety-indigenous-12step-meeting-2/2027-02-23/
LOCATION:Nelson United Church\, 602 Silica St\, Nelson\, BC\, V1L 4N1\, Canada
END:VEVENT
BEGIN:VEVENT
DTSTART;TZID=America/Vancouver:20270323T173000
DTEND;TZID=America/Vancouver:20270323T190000
DTSTAMP:20260419T073229
CREATED:20231003T155431Z
LAST-MODIFIED:20240131T154405Z
UID:10001069-1805823000-1805828400@coinations.net
SUMMARY:Wellbriety (Indigenous 12step) Meeting
DESCRIPTION:Drop-in Indigenous 12step meetings. Food provided.  On the 2nd and 4th Tuesdays from 5:30-7pm \nAt the Nelson United Church (602 Silica St.) on the 3rd floor in the Fairview room. Do not use the main entrances to the church. Use the side door up the sidewalk next to the house.
URL:https://coinations.net/program/wellbriety-indigenous-12step-meeting-2/2027-03-23/
LOCATION:Nelson United Church\, 602 Silica St\, Nelson\, BC\, V1L 4N1\, Canada
END:VEVENT
BEGIN:VEVENT
DTSTART;TZID=America/Vancouver:20270427T173000
DTEND;TZID=America/Vancouver:20270427T190000
DTSTAMP:20260419T073229
CREATED:20231003T155431Z
LAST-MODIFIED:20240131T154405Z
UID:10001070-1808847000-1808852400@coinations.net
SUMMARY:Wellbriety (Indigenous 12step) Meeting
DESCRIPTION:Drop-in Indigenous 12step meetings. Food provided.  On the 2nd and 4th Tuesdays from 5:30-7pm \nAt the Nelson United Church (602 Silica St.) on the 3rd floor in the Fairview room. Do not use the main entrances to the church. Use the side door up the sidewalk next to the house.
URL:https://coinations.net/program/wellbriety-indigenous-12step-meeting-2/2027-04-27/
LOCATION:Nelson United Church\, 602 Silica St\, Nelson\, BC\, V1L 4N1\, Canada
END:VEVENT
BEGIN:VEVENT
DTSTART;TZID=America/Vancouver:20270525T173000
DTEND;TZID=America/Vancouver:20270525T190000
DTSTAMP:20260419T073229
CREATED:20231003T155431Z
LAST-MODIFIED:20240131T154405Z
UID:10001071-1811266200-1811271600@coinations.net
SUMMARY:Wellbriety (Indigenous 12step) Meeting
DESCRIPTION:Drop-in Indigenous 12step meetings. Food provided.  On the 2nd and 4th Tuesdays from 5:30-7pm \nAt the Nelson United Church (602 Silica St.) on the 3rd floor in the Fairview room. Do not use the main entrances to the church. Use the side door up the sidewalk next to the house.
URL:https://coinations.net/program/wellbriety-indigenous-12step-meeting-2/2027-05-25/
LOCATION:Nelson United Church\, 602 Silica St\, Nelson\, BC\, V1L 4N1\, Canada
END:VEVENT
BEGIN:VEVENT
DTSTART;TZID=America/Vancouver:20270622T173000
DTEND;TZID=America/Vancouver:20270622T190000
DTSTAMP:20260419T073229
CREATED:20231003T155431Z
LAST-MODIFIED:20240131T154405Z
UID:10001072-1813685400-1813690800@coinations.net
SUMMARY:Wellbriety (Indigenous 12step) Meeting
DESCRIPTION:Drop-in Indigenous 12step meetings. Food provided.  On the 2nd and 4th Tuesdays from 5:30-7pm \nAt the Nelson United Church (602 Silica St.) on the 3rd floor in the Fairview room. Do not use the main entrances to the church. Use the side door up the sidewalk next to the house.
URL:https://coinations.net/program/wellbriety-indigenous-12step-meeting-2/2027-06-22/
LOCATION:Nelson United Church\, 602 Silica St\, Nelson\, BC\, V1L 4N1\, Canada
END:VEVENT
BEGIN:VEVENT
DTSTART;TZID=America/Vancouver:20270727T173000
DTEND;TZID=America/Vancouver:20270727T190000
DTSTAMP:20260419T073229
CREATED:20231003T155431Z
LAST-MODIFIED:20240131T154405Z
UID:10001073-1816709400-1816714800@coinations.net
SUMMARY:Wellbriety (Indigenous 12step) Meeting
DESCRIPTION:Drop-in Indigenous 12step meetings. Food provided.  On the 2nd and 4th Tuesdays from 5:30-7pm \nAt the Nelson United Church (602 Silica St.) on the 3rd floor in the Fairview room. Do not use the main entrances to the church. Use the side door up the sidewalk next to the house.
URL:https://coinations.net/program/wellbriety-indigenous-12step-meeting-2/2027-07-27/
LOCATION:Nelson United Church\, 602 Silica St\, Nelson\, BC\, V1L 4N1\, Canada
END:VEVENT
BEGIN:VEVENT
DTSTART;TZID=America/Vancouver:20270824T173000
DTEND;TZID=America/Vancouver:20270824T190000
DTSTAMP:20260419T073229
CREATED:20231003T155431Z
LAST-MODIFIED:20240131T154405Z
UID:10001074-1819128600-1819134000@coinations.net
SUMMARY:Wellbriety (Indigenous 12step) Meeting
DESCRIPTION:Drop-in Indigenous 12step meetings. Food provided.  On the 2nd and 4th Tuesdays from 5:30-7pm \nAt the Nelson United Church (602 Silica St.) on the 3rd floor in the Fairview room. Do not use the main entrances to the church. Use the side door up the sidewalk next to the house.
URL:https://coinations.net/program/wellbriety-indigenous-12step-meeting-2/2027-08-24/
LOCATION:Nelson United Church\, 602 Silica St\, Nelson\, BC\, V1L 4N1\, Canada
END:VEVENT
BEGIN:VEVENT
DTSTART;TZID=America/Vancouver:20270928T173000
DTEND;TZID=America/Vancouver:20270928T190000
DTSTAMP:20260419T073229
CREATED:20231003T155431Z
LAST-MODIFIED:20240131T154405Z
UID:10001075-1822152600-1822158000@coinations.net
SUMMARY:Wellbriety (Indigenous 12step) Meeting
DESCRIPTION:Drop-in Indigenous 12step meetings. Food provided.  On the 2nd and 4th Tuesdays from 5:30-7pm \nAt the Nelson United Church (602 Silica St.) on the 3rd floor in the Fairview room. Do not use the main entrances to the church. Use the side door up the sidewalk next to the house.
URL:https://coinations.net/program/wellbriety-indigenous-12step-meeting-2/2027-09-28/
LOCATION:Nelson United Church\, 602 Silica St\, Nelson\, BC\, V1L 4N1\, Canada
END:VEVENT
BEGIN:VEVENT
DTSTART;TZID=America/Vancouver:20271026T173000
DTEND;TZID=America/Vancouver:20271026T190000
DTSTAMP:20260419T073229
CREATED:20231003T155431Z
LAST-MODIFIED:20240131T154405Z
UID:10001076-1824571800-1824577200@coinations.net
SUMMARY:Wellbriety (Indigenous 12step) Meeting
DESCRIPTION:Drop-in Indigenous 12step meetings. Food provided.  On the 2nd and 4th Tuesdays from 5:30-7pm \nAt the Nelson United Church (602 Silica St.) on the 3rd floor in the Fairview room. Do not use the main entrances to the church. Use the side door up the sidewalk next to the house.
URL:https://coinations.net/program/wellbriety-indigenous-12step-meeting-2/2027-10-26/
LOCATION:Nelson United Church\, 602 Silica St\, Nelson\, BC\, V1L 4N1\, Canada
END:VEVENT
BEGIN:VEVENT
DTSTART;TZID=America/Vancouver:20271123T173000
DTEND;TZID=America/Vancouver:20271123T190000
DTSTAMP:20260419T073229
CREATED:20231003T155431Z
LAST-MODIFIED:20240131T154405Z
UID:10001077-1826991000-1826996400@coinations.net
SUMMARY:Wellbriety (Indigenous 12step) Meeting
DESCRIPTION:Drop-in Indigenous 12step meetings. Food provided.  On the 2nd and 4th Tuesdays from 5:30-7pm \nAt the Nelson United Church (602 Silica St.) on the 3rd floor in the Fairview room. Do not use the main entrances to the church. Use the side door up the sidewalk next to the house.
URL:https://coinations.net/program/wellbriety-indigenous-12step-meeting-2/2027-11-23/
LOCATION:Nelson United Church\, 602 Silica St\, Nelson\, BC\, V1L 4N1\, Canada
END:VEVENT
BEGIN:VEVENT
DTSTART;TZID=America/Vancouver:20271228T173000
DTEND;TZID=America/Vancouver:20271228T190000
DTSTAMP:20260419T073229
CREATED:20231003T155431Z
LAST-MODIFIED:20240131T154405Z
UID:10001078-1830015000-1830020400@coinations.net
SUMMARY:Wellbriety (Indigenous 12step) Meeting
DESCRIPTION:Drop-in Indigenous 12step meetings. Food provided.  On the 2nd and 4th Tuesdays from 5:30-7pm \nAt the Nelson United Church (602 Silica St.) on the 3rd floor in the Fairview room. Do not use the main entrances to the church. Use the side door up the sidewalk next to the house.
URL:https://coinations.net/program/wellbriety-indigenous-12step-meeting-2/2027-12-28/
LOCATION:Nelson United Church\, 602 Silica St\, Nelson\, BC\, V1L 4N1\, Canada
END:VEVENT
BEGIN:VEVENT
DTSTART;TZID=America/Vancouver:20280125T173000
DTEND;TZID=America/Vancouver:20280125T190000
DTSTAMP:20260419T073229
CREATED:20231003T155431Z
LAST-MODIFIED:20240131T154405Z
UID:10001079-1832434200-1832439600@coinations.net
SUMMARY:Wellbriety (Indigenous 12step) Meeting
DESCRIPTION:Drop-in Indigenous 12step meetings. Food provided.  On the 2nd and 4th Tuesdays from 5:30-7pm \nAt the Nelson United Church (602 Silica St.) on the 3rd floor in the Fairview room. Do not use the main entrances to the church. Use the side door up the sidewalk next to the house.
URL:https://coinations.net/program/wellbriety-indigenous-12step-meeting-2/2028-01-25/
LOCATION:Nelson United Church\, 602 Silica St\, Nelson\, BC\, V1L 4N1\, Canada
END:VEVENT
BEGIN:VEVENT
DTSTART;TZID=America/Vancouver:20280222T173000
DTEND;TZID=America/Vancouver:20280222T190000
DTSTAMP:20260419T073229
CREATED:20231003T155431Z
LAST-MODIFIED:20240131T154405Z
UID:10001080-1834853400-1834858800@coinations.net
SUMMARY:Wellbriety (Indigenous 12step) Meeting
DESCRIPTION:Drop-in Indigenous 12step meetings. Food provided.  On the 2nd and 4th Tuesdays from 5:30-7pm \nAt the Nelson United Church (602 Silica St.) on the 3rd floor in the Fairview room. Do not use the main entrances to the church. Use the side door up the sidewalk next to the house.
URL:https://coinations.net/program/wellbriety-indigenous-12step-meeting-2/2028-02-22/
LOCATION:Nelson United Church\, 602 Silica St\, Nelson\, BC\, V1L 4N1\, Canada
END:VEVENT
BEGIN:VEVENT
DTSTART;TZID=America/Vancouver:20280328T173000
DTEND;TZID=America/Vancouver:20280328T190000
DTSTAMP:20260419T073229
CREATED:20231003T155431Z
LAST-MODIFIED:20240131T154405Z
UID:10001081-1837877400-1837882800@coinations.net
SUMMARY:Wellbriety (Indigenous 12step) Meeting
DESCRIPTION:Drop-in Indigenous 12step meetings. Food provided.  On the 2nd and 4th Tuesdays from 5:30-7pm \nAt the Nelson United Church (602 Silica St.) on the 3rd floor in the Fairview room. Do not use the main entrances to the church. Use the side door up the sidewalk next to the house.
URL:https://coinations.net/program/wellbriety-indigenous-12step-meeting-2/2028-03-28/
LOCATION:Nelson United Church\, 602 Silica St\, Nelson\, BC\, V1L 4N1\, Canada
END:VEVENT
BEGIN:VEVENT
DTSTART;TZID=America/Vancouver:20280425T173000
DTEND;TZID=America/Vancouver:20280425T190000
DTSTAMP:20260419T073229
CREATED:20231003T155431Z
LAST-MODIFIED:20240131T154405Z
UID:10001082-1840296600-1840302000@coinations.net
SUMMARY:Wellbriety (Indigenous 12step) Meeting
DESCRIPTION:Drop-in Indigenous 12step meetings. Food provided.  On the 2nd and 4th Tuesdays from 5:30-7pm \nAt the Nelson United Church (602 Silica St.) on the 3rd floor in the Fairview room. Do not use the main entrances to the church. Use the side door up the sidewalk next to the house.
URL:https://coinations.net/program/wellbriety-indigenous-12step-meeting-2/2028-04-25/
LOCATION:Nelson United Church\, 602 Silica St\, Nelson\, BC\, V1L 4N1\, Canada
END:VEVENT
BEGIN:VEVENT
DTSTART;TZID=America/Vancouver:20280523T173000
DTEND;TZID=America/Vancouver:20280523T190000
DTSTAMP:20260419T073229
CREATED:20231003T155431Z
LAST-MODIFIED:20240131T154405Z
UID:10001083-1842715800-1842721200@coinations.net
SUMMARY:Wellbriety (Indigenous 12step) Meeting
DESCRIPTION:Drop-in Indigenous 12step meetings. Food provided.  On the 2nd and 4th Tuesdays from 5:30-7pm \nAt the Nelson United Church (602 Silica St.) on the 3rd floor in the Fairview room. Do not use the main entrances to the church. Use the side door up the sidewalk next to the house.
URL:https://coinations.net/program/wellbriety-indigenous-12step-meeting-2/2028-05-23/
LOCATION:Nelson United Church\, 602 Silica St\, Nelson\, BC\, V1L 4N1\, Canada
END:VEVENT
BEGIN:VEVENT
DTSTART;TZID=America/Vancouver:20280627T173000
DTEND;TZID=America/Vancouver:20280627T190000
DTSTAMP:20260419T073229
CREATED:20231003T155431Z
LAST-MODIFIED:20240131T154405Z
UID:10001084-1845739800-1845745200@coinations.net
SUMMARY:Wellbriety (Indigenous 12step) Meeting
DESCRIPTION:Drop-in Indigenous 12step meetings. Food provided.  On the 2nd and 4th Tuesdays from 5:30-7pm \nAt the Nelson United Church (602 Silica St.) on the 3rd floor in the Fairview room. Do not use the main entrances to the church. Use the side door up the sidewalk next to the house.
URL:https://coinations.net/program/wellbriety-indigenous-12step-meeting-2/2028-06-27/
LOCATION:Nelson United Church\, 602 Silica St\, Nelson\, BC\, V1L 4N1\, Canada
END:VEVENT
BEGIN:VEVENT
DTSTART;TZID=America/Vancouver:20280725T173000
DTEND;TZID=America/Vancouver:20280725T190000
DTSTAMP:20260419T073229
CREATED:20231003T155431Z
LAST-MODIFIED:20240131T154405Z
UID:10002589-1848159000-1848164400@coinations.net
SUMMARY:Wellbriety (Indigenous 12step) Meeting
DESCRIPTION:Drop-in Indigenous 12step meetings. Food provided.  On the 2nd and 4th Tuesdays from 5:30-7pm \nAt the Nelson United Church (602 Silica St.) on the 3rd floor in the Fairview room. Do not use the main entrances to the church. Use the side door up the sidewalk next to the house.
URL:https://coinations.net/program/wellbriety-indigenous-12step-meeting-2/2028-07-25/
LOCATION:Nelson United Church\, 602 Silica St\, Nelson\, BC\, V1L 4N1\, Canada
END:VEVENT
BEGIN:VEVENT
DTSTART;TZID=America/Vancouver:20280822T173000
DTEND;TZID=America/Vancouver:20280822T190000
DTSTAMP:20260419T073229
CREATED:20231003T155431Z
LAST-MODIFIED:20240131T154405Z
UID:10002590-1850578200-1850583600@coinations.net
SUMMARY:Wellbriety (Indigenous 12step) Meeting
DESCRIPTION:Drop-in Indigenous 12step meetings. Food provided.  On the 2nd and 4th Tuesdays from 5:30-7pm \nAt the Nelson United Church (602 Silica St.) on the 3rd floor in the Fairview room. Do not use the main entrances to the church. Use the side door up the sidewalk next to the house.
URL:https://coinations.net/program/wellbriety-indigenous-12step-meeting-2/2028-08-22/
LOCATION:Nelson United Church\, 602 Silica St\, Nelson\, BC\, V1L 4N1\, Canada
END:VEVENT
BEGIN:VEVENT
DTSTART;TZID=America/Vancouver:20280926T173000
DTEND;TZID=America/Vancouver:20280926T190000
DTSTAMP:20260419T073229
CREATED:20231003T155431Z
LAST-MODIFIED:20240131T154405Z
UID:10002591-1853602200-1853607600@coinations.net
SUMMARY:Wellbriety (Indigenous 12step) Meeting
DESCRIPTION:Drop-in Indigenous 12step meetings. Food provided.  On the 2nd and 4th Tuesdays from 5:30-7pm \nAt the Nelson United Church (602 Silica St.) on the 3rd floor in the Fairview room. Do not use the main entrances to the church. Use the side door up the sidewalk next to the house.
URL:https://coinations.net/program/wellbriety-indigenous-12step-meeting-2/2028-09-26/
LOCATION:Nelson United Church\, 602 Silica St\, Nelson\, BC\, V1L 4N1\, Canada
END:VEVENT
END:VCALENDAR