BEGIN:VCALENDAR
VERSION:2.0
PRODID:-//Circle of Indigenous Nations Society - ECPv6.15.18//NONSGML v1.0//EN
CALSCALE:GREGORIAN
METHOD:PUBLISH
X-WR-CALNAME:Circle of Indigenous Nations Society
X-ORIGINAL-URL:https://coinations.net
X-WR-CALDESC:Events for Circle of Indigenous Nations Society
REFRESH-INTERVAL;VALUE=DURATION:PT1H
X-Robots-Tag:noindex
X-PUBLISHED-TTL:PT1H
BEGIN:VTIMEZONE
TZID:America/Vancouver
BEGIN:DAYLIGHT
TZOFFSETFROM:-0800
TZOFFSETTO:-0700
TZNAME:PDT
DTSTART:20250309T100000
END:DAYLIGHT
BEGIN:STANDARD
TZOFFSETFROM:-0700
TZOFFSETTO:-0800
TZNAME:PST
DTSTART:20251102T090000
END:STANDARD
BEGIN:DAYLIGHT
TZOFFSETFROM:-0800
TZOFFSETTO:-0700
TZNAME:PDT
DTSTART:20260308T100000
END:DAYLIGHT
BEGIN:STANDARD
TZOFFSETFROM:-0700
TZOFFSETTO:-0800
TZNAME:PST
DTSTART:20261101T090000
END:STANDARD
BEGIN:DAYLIGHT
TZOFFSETFROM:-0800
TZOFFSETTO:-0700
TZNAME:PDT
DTSTART:20270314T100000
END:DAYLIGHT
BEGIN:STANDARD
TZOFFSETFROM:-0700
TZOFFSETTO:-0800
TZNAME:PST
DTSTART:20271107T090000
END:STANDARD
BEGIN:DAYLIGHT
TZOFFSETFROM:-0800
TZOFFSETTO:-0700
TZNAME:PDT
DTSTART:20280312T100000
END:DAYLIGHT
BEGIN:STANDARD
TZOFFSETFROM:-0700
TZOFFSETTO:-0800
TZNAME:PST
DTSTART:20281105T090000
END:STANDARD
BEGIN:DAYLIGHT
TZOFFSETFROM:-0800
TZOFFSETTO:-0700
TZNAME:PDT
DTSTART:20290311T100000
END:DAYLIGHT
BEGIN:STANDARD
TZOFFSETFROM:-0700
TZOFFSETTO:-0800
TZNAME:PST
DTSTART:20291104T090000
END:STANDARD
END:VTIMEZONE
BEGIN:VEVENT
DTSTART;TZID=America/Vancouver:20260512T173000
DTEND;TZID=America/Vancouver:20260512T190000
DTSTAMP:20260425T065121
CREATED:20230307T191617Z
LAST-MODIFIED:20250312T171341Z
UID:10000999-1778607000-1778612400@coinations.net
SUMMARY:Wellbriety (Indigenous 12step) Meeting
DESCRIPTION:Drop-in Indigenous 12step meetings. Food provided. \nAt the Nelson United Church on the 3rd floor in the Fairview room. Do not use the main entrances to the church. Use the side door up the sidewalk next to the house.
URL:https://coinations.net/program/wellbriety-meeting/2026-05-12/
END:VEVENT
BEGIN:VEVENT
DTSTART;TZID=America/Vancouver:20260609T173000
DTEND;TZID=America/Vancouver:20260609T190000
DTSTAMP:20260425T065121
CREATED:20230307T191617Z
LAST-MODIFIED:20250312T171341Z
UID:10001000-1781026200-1781031600@coinations.net
SUMMARY:Wellbriety (Indigenous 12step) Meeting
DESCRIPTION:Drop-in Indigenous 12step meetings. Food provided. \nAt the Nelson United Church on the 3rd floor in the Fairview room. Do not use the main entrances to the church. Use the side door up the sidewalk next to the house.
URL:https://coinations.net/program/wellbriety-meeting/2026-06-09/
END:VEVENT
BEGIN:VEVENT
DTSTART;TZID=America/Vancouver:20260714T173000
DTEND;TZID=America/Vancouver:20260714T190000
DTSTAMP:20260425T065121
CREATED:20230307T191617Z
LAST-MODIFIED:20250312T171341Z
UID:10001001-1784050200-1784055600@coinations.net
SUMMARY:Wellbriety (Indigenous 12step) Meeting
DESCRIPTION:Drop-in Indigenous 12step meetings. Food provided. \nAt the Nelson United Church on the 3rd floor in the Fairview room. Do not use the main entrances to the church. Use the side door up the sidewalk next to the house.
URL:https://coinations.net/program/wellbriety-meeting/2026-07-14/
END:VEVENT
BEGIN:VEVENT
DTSTART;TZID=America/Vancouver:20260811T173000
DTEND;TZID=America/Vancouver:20260811T190000
DTSTAMP:20260425T065121
CREATED:20230307T191617Z
LAST-MODIFIED:20250312T171341Z
UID:10001002-1786469400-1786474800@coinations.net
SUMMARY:Wellbriety (Indigenous 12step) Meeting
DESCRIPTION:Drop-in Indigenous 12step meetings. Food provided. \nAt the Nelson United Church on the 3rd floor in the Fairview room. Do not use the main entrances to the church. Use the side door up the sidewalk next to the house.
URL:https://coinations.net/program/wellbriety-meeting/2026-08-11/
END:VEVENT
BEGIN:VEVENT
DTSTART;TZID=America/Vancouver:20260908T173000
DTEND;TZID=America/Vancouver:20260908T190000
DTSTAMP:20260425T065121
CREATED:20230307T191617Z
LAST-MODIFIED:20250312T171341Z
UID:10001003-1788888600-1788894000@coinations.net
SUMMARY:Wellbriety (Indigenous 12step) Meeting
DESCRIPTION:Drop-in Indigenous 12step meetings. Food provided. \nAt the Nelson United Church on the 3rd floor in the Fairview room. Do not use the main entrances to the church. Use the side door up the sidewalk next to the house.
URL:https://coinations.net/program/wellbriety-meeting/2026-09-08/
END:VEVENT
BEGIN:VEVENT
DTSTART;TZID=America/Vancouver:20261013T173000
DTEND;TZID=America/Vancouver:20261013T190000
DTSTAMP:20260425T065121
CREATED:20230307T191617Z
LAST-MODIFIED:20250312T171341Z
UID:10001004-1791912600-1791918000@coinations.net
SUMMARY:Wellbriety (Indigenous 12step) Meeting
DESCRIPTION:Drop-in Indigenous 12step meetings. Food provided. \nAt the Nelson United Church on the 3rd floor in the Fairview room. Do not use the main entrances to the church. Use the side door up the sidewalk next to the house.
URL:https://coinations.net/program/wellbriety-meeting/2026-10-13/
END:VEVENT
BEGIN:VEVENT
DTSTART;TZID=America/Vancouver:20261110T173000
DTEND;TZID=America/Vancouver:20261110T190000
DTSTAMP:20260425T065121
CREATED:20230307T191617Z
LAST-MODIFIED:20250312T171341Z
UID:10001005-1794331800-1794337200@coinations.net
SUMMARY:Wellbriety (Indigenous 12step) Meeting
DESCRIPTION:Drop-in Indigenous 12step meetings. Food provided. \nAt the Nelson United Church on the 3rd floor in the Fairview room. Do not use the main entrances to the church. Use the side door up the sidewalk next to the house.
URL:https://coinations.net/program/wellbriety-meeting/2026-11-10/
END:VEVENT
BEGIN:VEVENT
DTSTART;TZID=America/Vancouver:20261208T173000
DTEND;TZID=America/Vancouver:20261208T190000
DTSTAMP:20260425T065121
CREATED:20230307T191617Z
LAST-MODIFIED:20250312T171341Z
UID:10001006-1796751000-1796756400@coinations.net
SUMMARY:Wellbriety (Indigenous 12step) Meeting
DESCRIPTION:Drop-in Indigenous 12step meetings. Food provided. \nAt the Nelson United Church on the 3rd floor in the Fairview room. Do not use the main entrances to the church. Use the side door up the sidewalk next to the house.
URL:https://coinations.net/program/wellbriety-meeting/2026-12-08/
END:VEVENT
BEGIN:VEVENT
DTSTART;TZID=America/Vancouver:20270112T173000
DTEND;TZID=America/Vancouver:20270112T190000
DTSTAMP:20260425T065121
CREATED:20230307T191617Z
LAST-MODIFIED:20250312T171341Z
UID:10001007-1799775000-1799780400@coinations.net
SUMMARY:Wellbriety (Indigenous 12step) Meeting
DESCRIPTION:Drop-in Indigenous 12step meetings. Food provided. \nAt the Nelson United Church on the 3rd floor in the Fairview room. Do not use the main entrances to the church. Use the side door up the sidewalk next to the house.
URL:https://coinations.net/program/wellbriety-meeting/2027-01-12/
END:VEVENT
BEGIN:VEVENT
DTSTART;TZID=America/Vancouver:20270209T173000
DTEND;TZID=America/Vancouver:20270209T190000
DTSTAMP:20260425T065121
CREATED:20230307T191617Z
LAST-MODIFIED:20250312T171341Z
UID:10001008-1802194200-1802199600@coinations.net
SUMMARY:Wellbriety (Indigenous 12step) Meeting
DESCRIPTION:Drop-in Indigenous 12step meetings. Food provided. \nAt the Nelson United Church on the 3rd floor in the Fairview room. Do not use the main entrances to the church. Use the side door up the sidewalk next to the house.
URL:https://coinations.net/program/wellbriety-meeting/2027-02-09/
END:VEVENT
BEGIN:VEVENT
DTSTART;TZID=America/Vancouver:20270309T173000
DTEND;TZID=America/Vancouver:20270309T190000
DTSTAMP:20260425T065121
CREATED:20230307T191617Z
LAST-MODIFIED:20250312T171341Z
UID:10001009-1804613400-1804618800@coinations.net
SUMMARY:Wellbriety (Indigenous 12step) Meeting
DESCRIPTION:Drop-in Indigenous 12step meetings. Food provided. \nAt the Nelson United Church on the 3rd floor in the Fairview room. Do not use the main entrances to the church. Use the side door up the sidewalk next to the house.
URL:https://coinations.net/program/wellbriety-meeting/2027-03-09/
END:VEVENT
BEGIN:VEVENT
DTSTART;TZID=America/Vancouver:20270413T173000
DTEND;TZID=America/Vancouver:20270413T190000
DTSTAMP:20260425T065121
CREATED:20230307T191617Z
LAST-MODIFIED:20250312T171341Z
UID:10001010-1807637400-1807642800@coinations.net
SUMMARY:Wellbriety (Indigenous 12step) Meeting
DESCRIPTION:Drop-in Indigenous 12step meetings. Food provided. \nAt the Nelson United Church on the 3rd floor in the Fairview room. Do not use the main entrances to the church. Use the side door up the sidewalk next to the house.
URL:https://coinations.net/program/wellbriety-meeting/2027-04-13/
END:VEVENT
BEGIN:VEVENT
DTSTART;TZID=America/Vancouver:20270511T173000
DTEND;TZID=America/Vancouver:20270511T190000
DTSTAMP:20260425T065121
CREATED:20230307T191617Z
LAST-MODIFIED:20250312T171341Z
UID:10001011-1810056600-1810062000@coinations.net
SUMMARY:Wellbriety (Indigenous 12step) Meeting
DESCRIPTION:Drop-in Indigenous 12step meetings. Food provided. \nAt the Nelson United Church on the 3rd floor in the Fairview room. Do not use the main entrances to the church. Use the side door up the sidewalk next to the house.
URL:https://coinations.net/program/wellbriety-meeting/2027-05-11/
END:VEVENT
BEGIN:VEVENT
DTSTART;TZID=America/Vancouver:20270608T173000
DTEND;TZID=America/Vancouver:20270608T190000
DTSTAMP:20260425T065121
CREATED:20230307T191617Z
LAST-MODIFIED:20250312T171341Z
UID:10001012-1812475800-1812481200@coinations.net
SUMMARY:Wellbriety (Indigenous 12step) Meeting
DESCRIPTION:Drop-in Indigenous 12step meetings. Food provided. \nAt the Nelson United Church on the 3rd floor in the Fairview room. Do not use the main entrances to the church. Use the side door up the sidewalk next to the house.
URL:https://coinations.net/program/wellbriety-meeting/2027-06-08/
END:VEVENT
BEGIN:VEVENT
DTSTART;TZID=America/Vancouver:20270713T173000
DTEND;TZID=America/Vancouver:20270713T190000
DTSTAMP:20260425T065121
CREATED:20230307T191617Z
LAST-MODIFIED:20250312T171341Z
UID:10001013-1815499800-1815505200@coinations.net
SUMMARY:Wellbriety (Indigenous 12step) Meeting
DESCRIPTION:Drop-in Indigenous 12step meetings. Food provided. \nAt the Nelson United Church on the 3rd floor in the Fairview room. Do not use the main entrances to the church. Use the side door up the sidewalk next to the house.
URL:https://coinations.net/program/wellbriety-meeting/2027-07-13/
END:VEVENT
BEGIN:VEVENT
DTSTART;TZID=America/Vancouver:20270810T173000
DTEND;TZID=America/Vancouver:20270810T190000
DTSTAMP:20260425T065121
CREATED:20230307T191617Z
LAST-MODIFIED:20250312T171341Z
UID:10001014-1817919000-1817924400@coinations.net
SUMMARY:Wellbriety (Indigenous 12step) Meeting
DESCRIPTION:Drop-in Indigenous 12step meetings. Food provided. \nAt the Nelson United Church on the 3rd floor in the Fairview room. Do not use the main entrances to the church. Use the side door up the sidewalk next to the house.
URL:https://coinations.net/program/wellbriety-meeting/2027-08-10/
END:VEVENT
BEGIN:VEVENT
DTSTART;TZID=America/Vancouver:20270914T173000
DTEND;TZID=America/Vancouver:20270914T190000
DTSTAMP:20260425T065121
CREATED:20230307T191617Z
LAST-MODIFIED:20250312T171341Z
UID:10001015-1820943000-1820948400@coinations.net
SUMMARY:Wellbriety (Indigenous 12step) Meeting
DESCRIPTION:Drop-in Indigenous 12step meetings. Food provided. \nAt the Nelson United Church on the 3rd floor in the Fairview room. Do not use the main entrances to the church. Use the side door up the sidewalk next to the house.
URL:https://coinations.net/program/wellbriety-meeting/2027-09-14/
END:VEVENT
BEGIN:VEVENT
DTSTART;TZID=America/Vancouver:20271012T173000
DTEND;TZID=America/Vancouver:20271012T190000
DTSTAMP:20260425T065121
CREATED:20230307T191617Z
LAST-MODIFIED:20250312T171341Z
UID:10001016-1823362200-1823367600@coinations.net
SUMMARY:Wellbriety (Indigenous 12step) Meeting
DESCRIPTION:Drop-in Indigenous 12step meetings. Food provided. \nAt the Nelson United Church on the 3rd floor in the Fairview room. Do not use the main entrances to the church. Use the side door up the sidewalk next to the house.
URL:https://coinations.net/program/wellbriety-meeting/2027-10-12/
END:VEVENT
BEGIN:VEVENT
DTSTART;TZID=America/Vancouver:20271109T173000
DTEND;TZID=America/Vancouver:20271109T190000
DTSTAMP:20260425T065121
CREATED:20230307T191617Z
LAST-MODIFIED:20250312T171341Z
UID:10001017-1825781400-1825786800@coinations.net
SUMMARY:Wellbriety (Indigenous 12step) Meeting
DESCRIPTION:Drop-in Indigenous 12step meetings. Food provided. \nAt the Nelson United Church on the 3rd floor in the Fairview room. Do not use the main entrances to the church. Use the side door up the sidewalk next to the house.
URL:https://coinations.net/program/wellbriety-meeting/2027-11-09/
END:VEVENT
BEGIN:VEVENT
DTSTART;TZID=America/Vancouver:20271214T173000
DTEND;TZID=America/Vancouver:20271214T190000
DTSTAMP:20260425T065121
CREATED:20230307T191617Z
LAST-MODIFIED:20250312T171341Z
UID:10001018-1828805400-1828810800@coinations.net
SUMMARY:Wellbriety (Indigenous 12step) Meeting
DESCRIPTION:Drop-in Indigenous 12step meetings. Food provided. \nAt the Nelson United Church on the 3rd floor in the Fairview room. Do not use the main entrances to the church. Use the side door up the sidewalk next to the house.
URL:https://coinations.net/program/wellbriety-meeting/2027-12-14/
END:VEVENT
BEGIN:VEVENT
DTSTART;TZID=America/Vancouver:20280111T173000
DTEND;TZID=America/Vancouver:20280111T190000
DTSTAMP:20260425T065121
CREATED:20230307T191617Z
LAST-MODIFIED:20250312T171341Z
UID:10001019-1831224600-1831230000@coinations.net
SUMMARY:Wellbriety (Indigenous 12step) Meeting
DESCRIPTION:Drop-in Indigenous 12step meetings. Food provided. \nAt the Nelson United Church on the 3rd floor in the Fairview room. Do not use the main entrances to the church. Use the side door up the sidewalk next to the house.
URL:https://coinations.net/program/wellbriety-meeting/2028-01-11/
END:VEVENT
BEGIN:VEVENT
DTSTART;TZID=America/Vancouver:20280208T173000
DTEND;TZID=America/Vancouver:20280208T190000
DTSTAMP:20260425T065121
CREATED:20230307T191617Z
LAST-MODIFIED:20250312T171341Z
UID:10001020-1833643800-1833649200@coinations.net
SUMMARY:Wellbriety (Indigenous 12step) Meeting
DESCRIPTION:Drop-in Indigenous 12step meetings. Food provided. \nAt the Nelson United Church on the 3rd floor in the Fairview room. Do not use the main entrances to the church. Use the side door up the sidewalk next to the house.
URL:https://coinations.net/program/wellbriety-meeting/2028-02-08/
END:VEVENT
BEGIN:VEVENT
DTSTART;TZID=America/Vancouver:20280314T173000
DTEND;TZID=America/Vancouver:20280314T190000
DTSTAMP:20260425T065121
CREATED:20230307T191617Z
LAST-MODIFIED:20250312T171341Z
UID:10001021-1836667800-1836673200@coinations.net
SUMMARY:Wellbriety (Indigenous 12step) Meeting
DESCRIPTION:Drop-in Indigenous 12step meetings. Food provided. \nAt the Nelson United Church on the 3rd floor in the Fairview room. Do not use the main entrances to the church. Use the side door up the sidewalk next to the house.
URL:https://coinations.net/program/wellbriety-meeting/2028-03-14/
END:VEVENT
BEGIN:VEVENT
DTSTART;TZID=America/Vancouver:20280411T173000
DTEND;TZID=America/Vancouver:20280411T190000
DTSTAMP:20260425T065121
CREATED:20230307T191617Z
LAST-MODIFIED:20250312T171341Z
UID:10001022-1839087000-1839092400@coinations.net
SUMMARY:Wellbriety (Indigenous 12step) Meeting
DESCRIPTION:Drop-in Indigenous 12step meetings. Food provided. \nAt the Nelson United Church on the 3rd floor in the Fairview room. Do not use the main entrances to the church. Use the side door up the sidewalk next to the house.
URL:https://coinations.net/program/wellbriety-meeting/2028-04-11/
END:VEVENT
BEGIN:VEVENT
DTSTART;TZID=America/Vancouver:20280509T173000
DTEND;TZID=America/Vancouver:20280509T190000
DTSTAMP:20260425T065121
CREATED:20230307T191617Z
LAST-MODIFIED:20250312T171341Z
UID:10001023-1841506200-1841511600@coinations.net
SUMMARY:Wellbriety (Indigenous 12step) Meeting
DESCRIPTION:Drop-in Indigenous 12step meetings. Food provided. \nAt the Nelson United Church on the 3rd floor in the Fairview room. Do not use the main entrances to the church. Use the side door up the sidewalk next to the house.
URL:https://coinations.net/program/wellbriety-meeting/2028-05-09/
END:VEVENT
BEGIN:VEVENT
DTSTART;TZID=America/Vancouver:20280613T173000
DTEND;TZID=America/Vancouver:20280613T190000
DTSTAMP:20260425T065121
CREATED:20230307T191617Z
LAST-MODIFIED:20250312T171341Z
UID:10001024-1844530200-1844535600@coinations.net
SUMMARY:Wellbriety (Indigenous 12step) Meeting
DESCRIPTION:Drop-in Indigenous 12step meetings. Food provided. \nAt the Nelson United Church on the 3rd floor in the Fairview room. Do not use the main entrances to the church. Use the side door up the sidewalk next to the house.
URL:https://coinations.net/program/wellbriety-meeting/2028-06-13/
END:VEVENT
BEGIN:VEVENT
DTSTART;TZID=America/Vancouver:20280711T173000
DTEND;TZID=America/Vancouver:20280711T190000
DTSTAMP:20260425T065121
CREATED:20230307T191617Z
LAST-MODIFIED:20250312T171341Z
UID:10005711-1846949400-1846954800@coinations.net
SUMMARY:Wellbriety (Indigenous 12step) Meeting
DESCRIPTION:Drop-in Indigenous 12step meetings. Food provided. \nAt the Nelson United Church on the 3rd floor in the Fairview room. Do not use the main entrances to the church. Use the side door up the sidewalk next to the house.
URL:https://coinations.net/program/wellbriety-meeting/2028-07-11/
END:VEVENT
BEGIN:VEVENT
DTSTART;TZID=America/Vancouver:20280808T173000
DTEND;TZID=America/Vancouver:20280808T190000
DTSTAMP:20260425T065121
CREATED:20230307T191617Z
LAST-MODIFIED:20250312T171341Z
UID:10005712-1849368600-1849374000@coinations.net
SUMMARY:Wellbriety (Indigenous 12step) Meeting
DESCRIPTION:Drop-in Indigenous 12step meetings. Food provided. \nAt the Nelson United Church on the 3rd floor in the Fairview room. Do not use the main entrances to the church. Use the side door up the sidewalk next to the house.
URL:https://coinations.net/program/wellbriety-meeting/2028-08-08/
END:VEVENT
BEGIN:VEVENT
DTSTART;TZID=America/Vancouver:20280912T173000
DTEND;TZID=America/Vancouver:20280912T190000
DTSTAMP:20260425T065121
CREATED:20230307T191617Z
LAST-MODIFIED:20250312T171341Z
UID:10005713-1852392600-1852398000@coinations.net
SUMMARY:Wellbriety (Indigenous 12step) Meeting
DESCRIPTION:Drop-in Indigenous 12step meetings. Food provided. \nAt the Nelson United Church on the 3rd floor in the Fairview room. Do not use the main entrances to the church. Use the side door up the sidewalk next to the house.
URL:https://coinations.net/program/wellbriety-meeting/2028-09-12/
END:VEVENT
BEGIN:VEVENT
DTSTART;TZID=America/Vancouver:20281010T173000
DTEND;TZID=America/Vancouver:20281010T190000
DTSTAMP:20260425T065121
CREATED:20230307T191617Z
LAST-MODIFIED:20250312T171341Z
UID:10005714-1854811800-1854817200@coinations.net
SUMMARY:Wellbriety (Indigenous 12step) Meeting
DESCRIPTION:Drop-in Indigenous 12step meetings. Food provided. \nAt the Nelson United Church on the 3rd floor in the Fairview room. Do not use the main entrances to the church. Use the side door up the sidewalk next to the house.
URL:https://coinations.net/program/wellbriety-meeting/2028-10-10/
END:VEVENT
END:VCALENDAR